BEGIN:VCALENDAR
VERSION:2.0
PRODID:-//Ocean Connectors - ECPv6.15.18//NONSGML v1.0//EN
CALSCALE:GREGORIAN
METHOD:PUBLISH
X-ORIGINAL-URL:https://oceanconnectors.org
X-WR-CALDESC:Events for Ocean Connectors
REFRESH-INTERVAL;VALUE=DURATION:PT1H
X-Robots-Tag:noindex
X-PUBLISHED-TTL:PT1H
BEGIN:VTIMEZONE
TZID:America/Los_Angeles
BEGIN:DAYLIGHT
TZOFFSETFROM:-0800
TZOFFSETTO:-0700
TZNAME:PDT
DTSTART:20250309T100000
END:DAYLIGHT
BEGIN:STANDARD
TZOFFSETFROM:-0700
TZOFFSETTO:-0800
TZNAME:PST
DTSTART:20251102T090000
END:STANDARD
BEGIN:DAYLIGHT
TZOFFSETFROM:-0800
TZOFFSETTO:-0700
TZNAME:PDT
DTSTART:20260308T100000
END:DAYLIGHT
BEGIN:STANDARD
TZOFFSETFROM:-0700
TZOFFSETTO:-0800
TZNAME:PST
DTSTART:20261101T090000
END:STANDARD
BEGIN:DAYLIGHT
TZOFFSETFROM:-0800
TZOFFSETTO:-0700
TZNAME:PDT
DTSTART:20270314T100000
END:DAYLIGHT
BEGIN:STANDARD
TZOFFSETFROM:-0700
TZOFFSETTO:-0800
TZNAME:PST
DTSTART:20271107T090000
END:STANDARD
END:VTIMEZONE
BEGIN:VEVENT
DTSTART;TZID=America/Los_Angeles:20260508T100000
DTEND;TZID=America/Los_Angeles:20260508T123000
DTSTAMP:20260422T090345
CREATED:20260407T173937Z
LAST-MODIFIED:20260407T173937Z
UID:10000632-1778234400-1778243400@oceanconnectors.org
SUMMARY:Wildin' Mission Bay Kayak Eco Tour
DESCRIPTION:Join us for a unique kayaking eco tour of Mission Bay\, where you’ll paddle through calm waters and explore the bay’s diverse marine and bird life. With guidance from our eco-experts\, you’ll learn about the bay’s natural habitat and the ongoing conservation work that keeps it thriving. Suitable for all skill levels\, this eco-friendly adventure is perfect for anyone looking to experience Mission Bay from a new perspective. \nWhat to Expect: \n\nScenic Paddling: Enjoy a guided kayak trip through Mission Bay’s beautiful landscapes.\nMarine Life Spotting: Discover Mission Bay’s rich marine and bird life with the help of our knowledgeable guides.\nConservation Focus: Learn how you can support the bay’s ecosystems and see conservation efforts firsthand.\n\nExperience the magic of Mission Bay—reserve your spot on our next eco tour! \nBest of all\, every tour supports our education programs for South Bay youth!
URL:https://oceanconnectors.org/event/wildin-mission-bay-kayak-eco-tour-36/
LOCATION:Mission Bay Resort\, 1775 E Mission Bay Dr.\, San Diego\, CA\, 92109\, United States
CATEGORIES:Wildin' Mission Bay
ATTACH;FMTTYPE=image/jpeg:https://oceanconnectors.org/wp-content/uploads/2023/06/kayak3-e1687797669473.jpeg
ORGANIZER;CN="Eco Tours":MAILTO:eco-tours@oceanconnectors.org
END:VEVENT
END:VCALENDAR