BEGIN:VCALENDAR
VERSION:2.0
PRODID:-//Ocean Connectors - ECPv6.15.18//NONSGML v1.0//EN
CALSCALE:GREGORIAN
METHOD:PUBLISH
X-ORIGINAL-URL:https://oceanconnectors.org
X-WR-CALDESC:Events for Ocean Connectors
REFRESH-INTERVAL;VALUE=DURATION:PT1H
X-Robots-Tag:noindex
X-PUBLISHED-TTL:PT1H
BEGIN:VTIMEZONE
TZID:America/Los_Angeles
BEGIN:DAYLIGHT
TZOFFSETFROM:-0800
TZOFFSETTO:-0700
TZNAME:PDT
DTSTART:20230312T100000
END:DAYLIGHT
BEGIN:STANDARD
TZOFFSETFROM:-0700
TZOFFSETTO:-0800
TZNAME:PST
DTSTART:20231105T090000
END:STANDARD
BEGIN:DAYLIGHT
TZOFFSETFROM:-0800
TZOFFSETTO:-0700
TZNAME:PDT
DTSTART:20240310T100000
END:DAYLIGHT
BEGIN:STANDARD
TZOFFSETFROM:-0700
TZOFFSETTO:-0800
TZNAME:PST
DTSTART:20241103T090000
END:STANDARD
BEGIN:DAYLIGHT
TZOFFSETFROM:-0800
TZOFFSETTO:-0700
TZNAME:PDT
DTSTART:20250309T100000
END:DAYLIGHT
BEGIN:STANDARD
TZOFFSETFROM:-0700
TZOFFSETTO:-0800
TZNAME:PST
DTSTART:20251102T090000
END:STANDARD
BEGIN:DAYLIGHT
TZOFFSETFROM:-0800
TZOFFSETTO:-0700
TZNAME:PDT
DTSTART:20260308T100000
END:DAYLIGHT
BEGIN:STANDARD
TZOFFSETFROM:-0700
TZOFFSETTO:-0800
TZNAME:PST
DTSTART:20261101T090000
END:STANDARD
BEGIN:DAYLIGHT
TZOFFSETFROM:-0800
TZOFFSETTO:-0700
TZNAME:PDT
DTSTART:20270314T100000
END:DAYLIGHT
BEGIN:STANDARD
TZOFFSETFROM:-0700
TZOFFSETTO:-0800
TZNAME:PST
DTSTART:20271107T090000
END:STANDARD
END:VTIMEZONE
BEGIN:VEVENT
DTSTART;TZID=America/Los_Angeles:20260322T100000
DTEND;TZID=America/Los_Angeles:20260322T130000
DTSTAMP:20260423T135206
CREATED:20260129T020729Z
LAST-MODIFIED:20260129T020729Z
UID:10000626-1774173600-1774184400@oceanconnectors.org
SUMMARY:Community Restoration Day
DESCRIPTION:Be an Ocean Connector and join us in restoring San Diego’s vital wetland habitats!\nGet hands-on experience in restoring coastal sagescrub habitats by helping remove invasive species\, planting native plants\, and supporting local wildlife. Each event wraps up with a guided nature walk where you can spot native birds and learn more about the area’s natural ecosystem. \nWhat to Expect: \n\nInvasive Species Removal: Help clear invasive plants that threaten local biodiversity.\nLitter Removal: Help keep our local environment clean and healthy by removing trash and debris.\nNative Planting: Restore balance by reintroducing native species that support local wildlife.\nNature Walk: Enjoy a guided exploration of the habitat\, perfect for birding and learning more about the ecosystem you’ve helped restore.\nSite Maintenance: Site Maintenance: Lend a hand in keeping our restoration site thriving. Tasks may include digging\, planting\, watering\, and general upkeep to ensure the health and beauty of our native plants.\n\nAll ages and experience levels are welcome. Bring your friends\, family\, and community members to help make a lasting impact—together\, we can restore these vital habitats and protect our coast for generations to come.
URL:https://oceanconnectors.org/event/community-restoration-day-9/
LOCATION:Living Coast Refuge\, 1000 Gunpoweder Point Dr.\, Chula Vista\, CA\, 91910\, United States
CATEGORIES:Restoration Days
ATTACH;FMTTYPE=image/jpeg:https://oceanconnectors.org/wp-content/uploads/2026/01/PXL_20250402_185758931.MP_-scaled.jpg
ORGANIZER;CN="Eco Tours":MAILTO:eco-tours@oceanconnectors.org
END:VEVENT
BEGIN:VEVENT
DTSTART;TZID=America/Los_Angeles:20260307T100000
DTEND;TZID=America/Los_Angeles:20260307T130000
DTSTAMP:20260423T135206
CREATED:20260129T020326Z
LAST-MODIFIED:20260129T020326Z
UID:10000625-1772877600-1772888400@oceanconnectors.org
SUMMARY:Community Restoration Day
DESCRIPTION:Be an Ocean Connector and join us in restoring San Diego’s vital wetland habitats!\nGet hands-on experience in restoring coastal sagescrub habitats by helping remove invasive species\, planting native plants\, and supporting local wildlife. Each event wraps up with a guided nature walk where you can spot native birds and learn more about the area’s natural ecosystem. \nWhat to Expect: \n\nInvasive Species Removal: Help clear invasive plants that threaten local biodiversity.\nLitter Removal: Help keep our local environment clean and healthy by removing trash and debris.\nNative Planting: Restore balance by reintroducing native species that support local wildlife.\nNature Walk: Enjoy a guided exploration of the habitat\, perfect for birding and learning more about the ecosystem you’ve helped restore.\nSite Maintenance: Site Maintenance: Lend a hand in keeping our restoration site thriving. Tasks may include digging\, planting\, watering\, and general upkeep to ensure the health and beauty of our native plants.\n\nAll ages and experience levels are welcome. Bring your friends\, family\, and community members to help make a lasting impact—together\, we can restore these vital habitats and protect our coast for generations to come.
URL:https://oceanconnectors.org/event/community-restoration-day-8/
LOCATION:San Diego Bay Refuge\, 501 Florence St\, Imperial Beach\, CA\, 91932\, United States
CATEGORIES:Restoration Days
ATTACH;FMTTYPE=image/jpeg:https://oceanconnectors.org/wp-content/uploads/2026/01/PXL_20250402_185758931.MP_-scaled.jpg
ORGANIZER;CN="Eco Tours":MAILTO:eco-tours@oceanconnectors.org
END:VEVENT
BEGIN:VEVENT
DTSTART;TZID=America/Los_Angeles:20260215T100000
DTEND;TZID=America/Los_Angeles:20260215T130000
DTSTAMP:20260423T135206
CREATED:20260129T020121Z
LAST-MODIFIED:20260129T020121Z
UID:10000624-1771149600-1771160400@oceanconnectors.org
SUMMARY:Community Restoration Day
DESCRIPTION:Be an Ocean Connector and join us in restoring San Diego’s vital wetland habitats!\nGet hands-on experience in restoring coastal sagescrub habitats by helping remove invasive species\, planting native plants\, and supporting local wildlife. Each event wraps up with a guided nature walk where you can spot native birds and learn more about the area’s natural ecosystem. \nWhat to Expect: \n\nInvasive Species Removal: Help clear invasive plants that threaten local biodiversity.\nLitter Removal: Help keep our local environment clean and healthy by removing trash and debris.\nNative Planting: Restore balance by reintroducing native species that support local wildlife.\nNature Walk: Enjoy a guided exploration of the habitat\, perfect for birding and learning more about the ecosystem you’ve helped restore.\nSite Maintenance: Site Maintenance: Lend a hand in keeping our restoration site thriving. Tasks may include digging\, planting\, watering\, and general upkeep to ensure the health and beauty of our native plants.\n\nAll ages and experience levels are welcome. Bring your friends\, family\, and community members to help make a lasting impact—together\, we can restore these vital habitats and protect our coast for generations to come.
URL:https://oceanconnectors.org/event/community-restoration-day-7/
LOCATION:Living Coast Refuge\, 1000 Gunpoweder Point Dr.\, Chula Vista\, CA\, 91910\, United States
CATEGORIES:Restoration Days
ATTACH;FMTTYPE=image/jpeg:https://oceanconnectors.org/wp-content/uploads/2026/01/PXL_20250402_185758931.MP_-scaled.jpg
ORGANIZER;CN="Eco Tours":MAILTO:eco-tours@oceanconnectors.org
END:VEVENT
BEGIN:VEVENT
DTSTART;TZID=America/Los_Angeles:20260211T100000
DTEND;TZID=America/Los_Angeles:20260211T130000
DTSTAMP:20260423T135206
CREATED:20260129T012219Z
LAST-MODIFIED:20260129T015524Z
UID:10000623-1770804000-1770814800@oceanconnectors.org
SUMMARY:Community Restoration Day
DESCRIPTION:Be an Ocean Connector and join us in restoring San Diego’s vital wetland habitats!\nGet hands-on experience in restoring coastal sagescrub habitats by helping remove invasive species\, planting native plants\, and supporting local wildlife. Each event wraps up with a guided nature walk where you can spot native birds and learn more about the area’s natural ecosystem. \nWhat to Expect: \n\nInvasive Species Removal: Help clear invasive plants that threaten local biodiversity.\nLitter Removal: Help keep our local environment clean and healthy by removing trash and debris.\nNative Planting: Restore balance by reintroducing native species that support local wildlife.\nNature Walk: Enjoy a guided exploration of the habitat\, perfect for birding and learning more about the ecosystem you’ve helped restore.\nSite Maintenance: Site Maintenance: Lend a hand in keeping our restoration site thriving. Tasks may include digging\, planting\, watering\, and general upkeep to ensure the health and beauty of our native plants.\n\nAll ages and experience levels are welcome. Bring your friends\, family\, and community members to help make a lasting impact—together\, we can restore these vital habitats and protect our coast for generations to come.
URL:https://oceanconnectors.org/event/community-restoration-day-6/
LOCATION:San Diego Bay Refuge\, 501 Florence St\, Imperial Beach\, CA\, 91932\, United States
CATEGORIES:Restoration Days
ATTACH;FMTTYPE=image/jpeg:https://oceanconnectors.org/wp-content/uploads/2026/01/PXL_20250402_185758931.MP_-scaled.jpg
ORGANIZER;CN="Eco Tours":MAILTO:eco-tours@oceanconnectors.org
END:VEVENT
BEGIN:VEVENT
DTSTART;TZID=America/Los_Angeles:20250727T100000
DTEND;TZID=America/Los_Angeles:20250727T130000
DTSTAMP:20260423T135206
CREATED:20250714T022051Z
LAST-MODIFIED:20250714T024430Z
UID:10000590-1753610400-1753621200@oceanconnectors.org
SUMMARY:July Family STEAM Day
DESCRIPTION:Join us at Family STEAM Day in Imperial Beach\, a vibrant community event celebrating science\, technology\, engineering\, art\, and math with an environmental focus! Hosted by Ocean Connectors and San Diego Coastkeeper\, this free\, family-friendly event brings together local organizations offering interactive activities and engaging experiences for all ages. \nDiscover the wonders of our local ecosystems during a guided watershed and birdwatching walk at 11:00 AM\, and explore how STEAM connects with sustainability through hands-on learning and creative fun. \nHighlights include: \n\nInteractive STEAM booths hosted by local environmental and education organizations\nGuided walk with birdwatching at 11:00 AM\nPot decorating with a chance to plant native milkweed seeds and bring them home\nNature-inspired activity for artists of all ages!\nDiscounts at Trident Coffee for event attendees\nAn opportunity drawing with exciting prizes\nAnd more STEAM-themed family fun to be announced!\n\nCome connect with your community\, explore the outdoors\, and get inspired by science and sustainability!
URL:https://oceanconnectors.org/event/family-steam-day-4/
LOCATION:San Diego Bay Refuge\, 501 Florence St\, Imperial Beach\, CA\, 91932\, United States
CATEGORIES:Kayak Clean Up,Nature Walks,Outreach Events,Restoration Days
ATTACH;FMTTYPE=image/jpeg:https://oceanconnectors.org/wp-content/uploads/2025/04/STEAMDaymarketing.3-1.jpg
ORGANIZER;CN="Eco Tours":MAILTO:eco-tours@oceanconnectors.org
END:VEVENT
BEGIN:VEVENT
DTSTART;TZID=America/Los_Angeles:20250614T090000
DTEND;TZID=America/Los_Angeles:20250614T120000
DTSTAMP:20260423T135206
CREATED:20250417T062634Z
LAST-MODIFIED:20250417T062634Z
UID:10000475-1749891600-1749902400@oceanconnectors.org
SUMMARY:June Family STEAM Day
DESCRIPTION:Join us at Family STEAM Day in Imperial Beach\, a vibrant community event celebrating science\, technology\, engineering\, art\, and math with an environmental focus! Hosted by Ocean Connectors and San Diego Coastkeeper\, this free\, family-friendly event brings together local organizations offering interactive activities and engaging experiences for all ages. \nDiscover the wonders of our local ecosystems during guided watershed and birdwatching walks at 10:00 AM and 11:00 AM\, and explore how STEAM connects with sustainability through hands-on learning and creative fun. \nHighlights include: \n\nInteractive STEAM booths hosted by local environmental and education organizations\nGuided watershed walks with birdwatching at 10:00 AM and 11:00 AM\nPot decorating with a chance to plant native milkweed seeds and bring them home\nNature-inspired activity for artists of all ages!\nDiscounts at Trident Coffee for event attendees\n10% of food and drink sales at Novo Brazil Brewing donated to a local environmental cause\nAn opportunity drawing with exciting prizes\nAnd more Earth Day-themed family fun to be announced!\n\nCome connect with your community\, explore the outdoors\, and get inspired by science and sustainability!
URL:https://oceanconnectors.org/event/family-steam-day-3/
LOCATION:San Diego Bay Refuge\, 501 Florence St\, Imperial Beach\, CA\, 91932\, United States
CATEGORIES:Kayak Clean Up,Nature Walks,Outreach Events,Restoration Days
ATTACH;FMTTYPE=image/jpeg:https://oceanconnectors.org/wp-content/uploads/2025/04/STEAMDaymarketing.3-1.jpg
ORGANIZER;CN="Eco Tours":MAILTO:eco-tours@oceanconnectors.org
END:VEVENT
BEGIN:VEVENT
DTSTART;TZID=America/Los_Angeles:20250527T100000
DTEND;TZID=America/Los_Angeles:20250527T130000
DTSTAMP:20260423T135206
CREATED:20250519T223534Z
LAST-MODIFIED:20250519T223534Z
UID:10000558-1748340000-1748350800@oceanconnectors.org
SUMMARY:Community Restoration Day
DESCRIPTION:Be an Ocean Connector and join us as we restore our wetlands!\nGet hands-on experience in restoring coastal habitats by helping remove invasive species\, planting native plants\, and supporting local wildlife. Each event wraps up with a guided nature walk where you can spot native birds and learn more about the area’s natural ecosystem. \nWhat to Expect: \n\nInvasive Species Removal: Help clear invasive plants that threaten local biodiversity.\nNative Planting: Restore balance by reintroducing native species that support local wildlife.\nNature Walk: Enjoy a guided exploration of the habitat\, perfect for birding and learning more about the ecosystem you’ve helped restore.\n\nPLEASE NOTE: We require a minimum of 6 participants to run this event. If we’re unable to reach that\, we will notify all guests prior to the event. \nInvite your friends and family!
URL:https://oceanconnectors.org/event/community-restoration-day-5/
LOCATION:San Diego Bay Refuge\, 501 Florence St\, Imperial Beach\, CA\, 91932\, United States
CATEGORIES:Restoration Days
ATTACH;FMTTYPE=image/jpeg:https://oceanconnectors.org/wp-content/uploads/2024/01/Restoration-Day.-01.27.2024.1-1-scaled.jpg
ORGANIZER;CN="Eco Tours":MAILTO:eco-tours@oceanconnectors.org
END:VEVENT
BEGIN:VEVENT
DTSTART;TZID=America/Los_Angeles:20250523T100000
DTEND;TZID=America/Los_Angeles:20250523T130000
DTSTAMP:20260423T135206
CREATED:20250519T222450Z
LAST-MODIFIED:20250519T223651Z
UID:10000557-1747994400-1748005200@oceanconnectors.org
SUMMARY:Community Restoration Day
DESCRIPTION:Be an Ocean Connector and join us as we restore our wetlands!\nGet hands-on experience in restoring coastal habitats by helping remove invasive species\, planting native plants\, and supporting local wildlife. Each event wraps up with a guided nature walk where you can spot native birds and learn more about the area’s natural ecosystem. \nWhat to Expect: \n\nInvasive Species Removal: Help clear invasive plants that threaten local biodiversity.\nNative Planting: Restore balance by reintroducing native species that support local wildlife.\nNature Walk: Enjoy a guided exploration of the habitat\, perfect for birding and learning more about the ecosystem you’ve helped restore.\n\nPLEASE NOTE: We require a minimum of 6 participants to run this event. If we’re unable to reach that\, we will notify all guests prior to the event. \nInvite your friends and family!
URL:https://oceanconnectors.org/event/community-restoration-day-4/
LOCATION:Living Coast Refuge\, 1000 Gunpoweder Point Dr.\, Chula Vista\, CA\, 91910\, United States
CATEGORIES:Restoration Days
ATTACH;FMTTYPE=image/jpeg:https://oceanconnectors.org/wp-content/uploads/2024/01/Restoration-Day.-01.27.2024.1-1-scaled.jpg
ORGANIZER;CN="Eco Tours":MAILTO:eco-tours@oceanconnectors.org
END:VEVENT
BEGIN:VEVENT
DTSTART;TZID=America/Los_Angeles:20250419T090000
DTEND;TZID=America/Los_Angeles:20250419T120000
DTSTAMP:20260423T135206
CREATED:20250401T234321Z
LAST-MODIFIED:20250417T063230Z
UID:10000464-1745053200-1745064000@oceanconnectors.org
SUMMARY:April Family STEAM Day - [POSTPONED]
DESCRIPTION:Hello Ocean Connectors Community\, \nUnfortunately\, we are postponing this weekend’s STEAM Day. With Easter on Sunday and a large number of other Earth Day celebrations\, we weren’t able to secure enough registrations to move forward with the event. We are sorry for any inconvenience. \nStay tuned for an update on a new date\, but we will also be hosting another STEAM Day on June 14th \nWe are bummed to postpone\, but we will see you all soon! Thank you for supporting us!
URL:https://oceanconnectors.org/event/family-steam-day-2/
LOCATION:San Diego Bay Refuge\, 501 Florence St\, Imperial Beach\, CA\, 91932\, United States
CATEGORIES:Kayak Clean Up,Nature Walks,Outreach Events,Restoration Days
ATTACH;FMTTYPE=image/jpeg:https://oceanconnectors.org/wp-content/uploads/2025/04/STEAMDaymarketing.3-1.jpg
ORGANIZER;CN="Eco Tours":MAILTO:eco-tours@oceanconnectors.org
END:VEVENT
BEGIN:VEVENT
DTSTART;TZID=America/Los_Angeles:20250208T100000
DTEND;TZID=America/Los_Angeles:20250208T130000
DTSTAMP:20260423T135206
CREATED:20250121T222044Z
LAST-MODIFIED:20250121T222044Z
UID:10000462-1739008800-1739019600@oceanconnectors.org
SUMMARY:Community Restoration Day
DESCRIPTION:Be an Ocean Connector and join us as we restore our wetlands!\nGet hands-on experience in restoring coastal habitats by helping remove invasive species\, planting native plants\, and supporting local wildlife. Each event wraps up with a guided nature walk where you can spot native birds and learn more about the area’s natural ecosystem. \nWhat to Expect: \n\nInvasive Species Removal: Help clear invasive plants that threaten local biodiversity.\nNative Planting: Restore balance by reintroducing native species that support local wildlife.\nNature Walk: Enjoy a guided exploration of the habitat\, perfect for birding and learning more about the ecosystem you’ve helped restore.\n\nPLEASE NOTE: We require a minimum of 6 participants to run this event. If we’re unable to reach that\, we will notify all guests prior to the event. \nInvite your friends and family!
URL:https://oceanconnectors.org/event/community-restoration-day-3/
LOCATION:Living Coast Refuge\, 1000 Gunpoweder Point Dr.\, Chula Vista\, CA\, 91910\, United States
CATEGORIES:Restoration Days
ATTACH;FMTTYPE=image/jpeg:https://oceanconnectors.org/wp-content/uploads/2024/01/Restoration-Day.-01.27.2024.1-1-scaled.jpg
ORGANIZER;CN="Eco Tours":MAILTO:eco-tours@oceanconnectors.org
END:VEVENT
BEGIN:VEVENT
DTSTART;TZID=America/Los_Angeles:20250125T083000
DTEND;TZID=America/Los_Angeles:20250125T130000
DTSTAMP:20260423T135206
CREATED:20250110T174717Z
LAST-MODIFIED:20250122T212154Z
UID:10000461-1737793800-1737810000@oceanconnectors.org
SUMMARY:Community Restoration Day
DESCRIPTION:Be an Ocean Connector and join us as we restore our wetlands!\nGet hands-on experience in restoring coastal habitats by helping remove invasive species\, planting native plants\, and supporting local wildlife. Each event wraps up with a guided nature walk where you can spot native birds and learn more about the area’s natural ecosystem. \nWhat to Expect: \n\nInvasive Species Removal: Help clear invasive plants that threaten local biodiversity.\nNative Planting: Restore balance by reintroducing native species that support local wildlife.\nNature Walk: Enjoy a guided exploration of the habitat\, perfect for birding and learning more about the ecosystem you’ve helped restore.\n\nPLEASE NOTE: We require a minimum of 6 participants to run this event. If we’re unable to reach that\, we will notify all guests prior to the event. \nInvite your friends and family!
URL:https://oceanconnectors.org/event/community-restoration-day-2/
LOCATION:Paradise Creek Educational Park\, 304 W 18th St\, \, CA\, National City\, 91950\, United States
CATEGORIES:Restoration Days
ATTACH;FMTTYPE=image/jpeg:https://oceanconnectors.org/wp-content/uploads/2024/01/Restoration-Day.-01.27.2024.1-1-scaled.jpg
ORGANIZER;CN="Eco Tours":MAILTO:eco-tours@oceanconnectors.org
END:VEVENT
BEGIN:VEVENT
DTSTART;TZID=America/Los_Angeles:20241221T100000
DTEND;TZID=America/Los_Angeles:20241221T130000
DTSTAMP:20260423T135206
CREATED:20241128T015315Z
LAST-MODIFIED:20241128T015315Z
UID:10000446-1734775200-1734786000@oceanconnectors.org
SUMMARY:Community Restoration Day
DESCRIPTION:Be an Ocean Connector and join us as we restore our wetlands!\nGet hands-on experience in restoring coastal habitats by helping remove invasive species\, planting native plants\, and supporting local wildlife. Each event wraps up with a guided nature walk where you can spot native birds and learn more about the area’s natural ecosystem. \nWhat to Expect: \n\nInvasive Species Removal: Help clear invasive plants that threaten local biodiversity.\nNative Planting: Restore balance by reintroducing native species that support local wildlife.\nNature Walk: Enjoy a guided exploration of the habitat\, perfect for birding and learning more about the ecosystem you’ve helped restore.\n\nPLEASE NOTE: We require a minimum of 6 participants to run this event. If we’re unable to reach that\, we will notify all guests prior to the event. \nInvite your friends and family!
URL:https://oceanconnectors.org/event/community-restoration-day/
LOCATION:Living Coast Refuge\, 1000 Gunpoweder Point Dr.\, Chula Vista\, CA\, 91910\, United States
CATEGORIES:Restoration Days
ATTACH;FMTTYPE=image/jpeg:https://oceanconnectors.org/wp-content/uploads/2024/01/Restoration-Day.-01.27.2024.1-1-scaled.jpg
ORGANIZER;CN="Eco Tours":MAILTO:eco-tours@oceanconnectors.org
END:VEVENT
BEGIN:VEVENT
DTSTART;TZID=America/Los_Angeles:20241109T100000
DTEND;TZID=America/Los_Angeles:20241109T130000
DTSTAMP:20260423T135206
CREATED:20241029T232247Z
LAST-MODIFIED:20241030T012137Z
UID:10000404-1731146400-1731157200@oceanconnectors.org
SUMMARY:Restoration Day
DESCRIPTION:Be an Ocean Connector and join us as we restore our wetlands!\nGet hands-on experience in restoring coastal habitats by helping remove invasive species\, planting native plants\, and supporting local wildlife. Each event wraps up with a guided nature walk where you can spot native birds and learn more about the area’s natural ecosystem. \nWhat to Expect: \n\nInvasive Species Removal: Help clear invasive plants that threaten local biodiversity.\nNative Planting: Restore balance by reintroducing native species that support local wildlife.\nNature Walk: Enjoy a guided exploration of the habitat\, perfect for birding and learning more about the ecosystem you’ve helped restore.
URL:https://oceanconnectors.org/event/restoration-day-3/
LOCATION:Living Coast Refuge\, 1000 Gunpoweder Point Dr.\, Chula Vista\, CA\, 91910\, United States
CATEGORIES:Restoration Days
ATTACH;FMTTYPE=image/jpeg:https://oceanconnectors.org/wp-content/uploads/2024/01/Restoration-Day.-01.27.2024.1-1-scaled.jpg
ORGANIZER;CN="Eco Tours":MAILTO:eco-tours@oceanconnectors.org
END:VEVENT
BEGIN:VEVENT
DTSTART;TZID=America/Los_Angeles:20240316T100000
DTEND;TZID=America/Los_Angeles:20240316T130000
DTSTAMP:20260423T135206
CREATED:20240228T165852Z
LAST-MODIFIED:20240228T165852Z
UID:10000310-1710583200-1710594000@oceanconnectors.org
SUMMARY:Restoration Day
DESCRIPTION:Be an Ocean Connector and join us as we restore our wetlands!
URL:https://oceanconnectors.org/event/restoration-day-2/
LOCATION:Living Coast Refuge\, 1000 Gunpoweder Point Dr.\, Chula Vista\, CA\, 91910\, United States
CATEGORIES:Restoration Days
ATTACH;FMTTYPE=image/jpeg:https://oceanconnectors.org/wp-content/uploads/2024/01/Restoration-Day.-01.27.2024.1-1-scaled.jpg
ORGANIZER;CN="Eco Tours":MAILTO:eco-tours@oceanconnectors.org
END:VEVENT
END:VCALENDAR