BEGIN:VCALENDAR
VERSION:2.0
PRODID:-//Ocean Connectors - ECPv6.15.18//NONSGML v1.0//EN
CALSCALE:GREGORIAN
METHOD:PUBLISH
X-WR-CALNAME:Ocean Connectors
X-ORIGINAL-URL:https://oceanconnectors.org
X-WR-CALDESC:Events for Ocean Connectors
REFRESH-INTERVAL;VALUE=DURATION:PT1H
X-Robots-Tag:noindex
X-PUBLISHED-TTL:PT1H
BEGIN:VTIMEZONE
TZID:America/Los_Angeles
BEGIN:DAYLIGHT
TZOFFSETFROM:-0800
TZOFFSETTO:-0700
TZNAME:PDT
DTSTART:20230312T100000
END:DAYLIGHT
BEGIN:STANDARD
TZOFFSETFROM:-0700
TZOFFSETTO:-0800
TZNAME:PST
DTSTART:20231105T090000
END:STANDARD
BEGIN:DAYLIGHT
TZOFFSETFROM:-0800
TZOFFSETTO:-0700
TZNAME:PDT
DTSTART:20240310T100000
END:DAYLIGHT
BEGIN:STANDARD
TZOFFSETFROM:-0700
TZOFFSETTO:-0800
TZNAME:PST
DTSTART:20241103T090000
END:STANDARD
BEGIN:DAYLIGHT
TZOFFSETFROM:-0800
TZOFFSETTO:-0700
TZNAME:PDT
DTSTART:20250309T100000
END:DAYLIGHT
BEGIN:STANDARD
TZOFFSETFROM:-0700
TZOFFSETTO:-0800
TZNAME:PST
DTSTART:20251102T090000
END:STANDARD
END:VTIMEZONE
BEGIN:VEVENT
DTSTART;TZID=America/Los_Angeles:20240930T083000
DTEND;TZID=America/Los_Angeles:20240930T103000
DTSTAMP:20260421T021306
CREATED:20240501T170925Z
LAST-MODIFIED:20240501T170925Z
UID:10000336-1727685000-1727692200@oceanconnectors.org
SUMMARY:Community Kayak Cleanup
DESCRIPTION:Be an Ocean Connector and join us on one of our Kayak Cleanups!\n\n\n\n \n\n\n\n\n\n \n 
URL:https://oceanconnectors.org/event/community-kayak-cleanup-22/
LOCATION:Pepper Park\, 3299 Tidelands Ave.\, National City\, CA\, 91950\, United States
CATEGORIES:Kayak Clean Up
ATTACH;FMTTYPE=image/jpeg:https://oceanconnectors.org/wp-content/uploads/2024/02/Kayak.Cleanup.Pilot_.010823.3-1-scaled.jpg
ORGANIZER;CN="Eco Tours":MAILTO:eco-tours@oceanconnectors.org
END:VEVENT
BEGIN:VEVENT
DTSTART;TZID=America/Los_Angeles:20240921T100000
DTEND;TZID=America/Los_Angeles:20240921T120000
DTSTAMP:20260421T021306
CREATED:20240828T004008Z
LAST-MODIFIED:20240828T004008Z
UID:10000385-1726912800-1726920000@oceanconnectors.org
SUMMARY:Journey Through the Wetlands - Kayak Cleanup Group 2
DESCRIPTION:With funding from the National Marine Sanctuary Foundation and NOAA Marine Debris Program through the Ocean Odyssey competition\, the San Diego Audubon Society will be coordinating a “Journey through the Wetlands” event on September 21\, 2024\, from 9:00 am – 1:00 pm in South Bay at the Chula Vista Bayfront Park. \nThis event is part of celebrations for the Latino Conservation Week. This community clean-up project will engage over 100 residents of San Diego’s underserved South Bay communities to remove 450 pounds of marine debris from the waterway in San Diego Bay. Supporting partners include San Diego National Wildlife Refuge\, Ocean Connectors\, Living Coast Discovery Center\, San Diego Natural History Museum\, Fauna del Noroeste\, San Diego Coastkeeper\, and Outdoor Outreach. \nJoin us for a celebration of the Latino community and their contributions to conservation. The event will include kayaking\, live animals\, mariachi\, art\, food\, and many other family-friendly activities.
URL:https://oceanconnectors.org/event/journey-through-the-wetlands-kayak-cleanup-group-2/
LOCATION:Chula Vista Bayfront Park\, 980 Marina Way\, Chula Vista\, CA\, 91910\, United States
CATEGORIES:Kayak Clean Up
ATTACH;FMTTYPE=image/jpeg:https://oceanconnectors.org/wp-content/uploads/2024/02/Kayak.Cleanup.Pilot_.010823.3-scaled.jpg
ORGANIZER;CN="Eco Tours":MAILTO:eco-tours@oceanconnectors.org
END:VEVENT
BEGIN:VEVENT
DTSTART;TZID=America/Los_Angeles:20240921T080000
DTEND;TZID=America/Los_Angeles:20240921T100000
DTSTAMP:20260421T021306
CREATED:20240828T003618Z
LAST-MODIFIED:20240917T201139Z
UID:10000384-1726905600-1726912800@oceanconnectors.org
SUMMARY:Journey Through the Wetlands - Kayak Cleanup Group 1
DESCRIPTION:With funding from the National Marine Sanctuary Foundation and NOAA Marine Debris Program through the Ocean Odyssey competition\, the San Diego Audubon Society will be coordinating a “Journey through the Wetlands” event on September 21\, 2024\, from 9:00 am – 1:00 pm in South Bay at the Chula Vista Bayfront Park. \nThis event is part of celebrations for the Latino Conservation Week. This community clean-up project will engage over 100 residents of San Diego’s underserved South Bay communities to remove 450 pounds of marine debris from the waterway in San Diego Bay. Supporting partners include San Diego National Wildlife Refuge\, Ocean Connectors\, Living Coast Discovery Center\, San Diego Natural History Museum\, Fauna del Noroeste\, San Diego Coastkeeper\, and Outdoor Outreach. \nJoin us for a celebration of the Latino community and their contributions to conservation. The event will include kayaking\, live animals\, mariachi\, art\, food\, and many other family-friendly activities.
URL:https://oceanconnectors.org/event/journey-through-the-wetlands-1/
LOCATION:Chula Vista Bayfront Park\, 980 Marina Way\, Chula Vista\, CA\, 91910\, United States
CATEGORIES:Kayak Clean Up
ATTACH;FMTTYPE=image/jpeg:https://oceanconnectors.org/wp-content/uploads/2024/02/Kayak.Cleanup.Pilot_.010823.3-scaled.jpg
ORGANIZER;CN="Eco Tours":MAILTO:eco-tours@oceanconnectors.org
END:VEVENT
BEGIN:VEVENT
DTSTART;TZID=America/Los_Angeles:20240915T090000
DTEND;TZID=America/Los_Angeles:20240915T110000
DTSTAMP:20260421T021306
CREATED:20240826T230415Z
LAST-MODIFIED:20240826T231812Z
UID:10000383-1726390800-1726398000@oceanconnectors.org
SUMMARY:Team Up to Clean Up - Kayak Cleanup
DESCRIPTION:Join us for a Team Up to Clean Up event at Pepper Park and help us protect and care for our coastal environment! Participants will pick up trash from a kayak in the Sweetwater Channel\, try to spot wildlife\, and learn how we can all make a difference by keeping our parks and waterways clean! \nThis clean-up is in partnership with Living Coast Discovery Center\, who will be running the land-based clean-up during the event.  \n\n\n\n \n\n\n\n\n\n \n 
URL:https://oceanconnectors.org/event/team-up-to-clean-up/
LOCATION:Pepper Park\, 3299 Tidelands Ave.\, National City\, CA\, 91950\, United States
CATEGORIES:Kayak Clean Up
ATTACH;FMTTYPE=image/jpeg:https://oceanconnectors.org/wp-content/uploads/2024/04/Kayak-Cleanup-2_11-2-3-scaled.jpg
ORGANIZER;CN="Eco Tours":MAILTO:eco-tours@oceanconnectors.org
END:VEVENT
BEGIN:VEVENT
DTSTART;TZID=America/Los_Angeles:20240914T090000
DTEND;TZID=America/Los_Angeles:20240914T120000
DTSTAMP:20260421T021306
CREATED:20240808T204708Z
LAST-MODIFIED:20240913T202927Z
UID:10000381-1726304400-1726315200@oceanconnectors.org
SUMMARY:Oliver's Mitzvah Project - Kayak Cleanup
DESCRIPTION:Be an Ocean Connector and join us for a special Kayak Cleanup as part of Oliver’s Bar Mitzvah Project!\n\n\n\n \n\n\n\n\n\n \n 
URL:https://oceanconnectors.org/event/olivers-mitzvah-project-kayak-cleanup/
LOCATION:Pepper Park\, 3299 Tidelands Ave.\, National City\, CA\, 91950\, United States
CATEGORIES:Kayak Clean Up
ATTACH;FMTTYPE=image/jpeg:https://oceanconnectors.org/wp-content/uploads/2024/04/Kayak-Cleanup-2_11-2-3-scaled.jpg
ORGANIZER;CN="Eco Tours":MAILTO:eco-tours@oceanconnectors.org
END:VEVENT
BEGIN:VEVENT
DTSTART;TZID=America/Los_Angeles:20240907T090000
DTEND;TZID=America/Los_Angeles:20240907T120000
DTSTAMP:20260421T021306
CREATED:20240506T235145Z
LAST-MODIFIED:20240506T235145Z
UID:10000365-1725699600-1725710400@oceanconnectors.org
SUMMARY:Wildlife Kayaking Eco Tour
DESCRIPTION:Be an Ocean Connector and join us on one of our Wildlife Kayaking adventures!\n\n\n\n \n\n\n\n\n\n \n 
URL:https://oceanconnectors.org/event/wildlife-kayaking-eco-tour-54/
LOCATION:Bayside Park\, 999 Bayside Pkwy\, Chula Vista\, 91910
CATEGORIES:Wildlife Kayaking
ATTACH;FMTTYPE=image/jpeg:https://oceanconnectors.org/wp-content/uploads/2021/08/Wildlife-Kayaking-Eco-Tour-Event-Photo_small-scaled.jpg
ORGANIZER;CN="Eco Tours":MAILTO:eco-tours@oceanconnectors.org
END:VEVENT
BEGIN:VEVENT
DTSTART;TZID=America/Los_Angeles:20240829T090000
DTEND;TZID=America/Los_Angeles:20240829T110000
DTSTAMP:20260421T021306
CREATED:20231219T182917Z
LAST-MODIFIED:20250513T174755Z
UID:10000301-1724922000-1724929200@oceanconnectors.org
SUMMARY:Wildin' Mission Bay Kayak Eco Tour
DESCRIPTION:Join us for a unique kayaking eco tour of Mission Bay\, where you’ll paddle through calm waters and explore the bay’s diverse marine and bird life. With guidance from our eco-experts\, you’ll learn about the bay’s natural habitat and the ongoing conservation work that keeps it thriving. Suitable for all skill levels\, this eco-friendly adventure is perfect for anyone looking to experience Mission Bay from a new perspective. \nWhat to Expect: \n\nScenic Paddling: Enjoy a guided kayak trip through Mission Bay’s beautiful landscapes.\nMarine Life Spotting: Discover Mission Bay’s rich marine and bird life with the help of our knowledgeable guides.\nConservation Focus: Learn how you can support the bay’s ecosystems and see conservation efforts firsthand.\n\nExperience the magic of Mission Bay—reserve your spot on our next eco tour! \nBest of all\, every tour supports our education programs for South Bay youth!
URL:https://oceanconnectors.org/event/wildin-mission-bay-kayak-eco-tour-17/
LOCATION:Mission Bay Resort\, 1775 E Mission Bay Dr.\, San Diego\, CA\, 92109\, United States
CATEGORIES:Wildin' Mission Bay
ATTACH;FMTTYPE=image/jpeg:https://oceanconnectors.org/wp-content/uploads/2023/06/kayak3-e1687797669473.jpeg
ORGANIZER;CN="Eco Tours":MAILTO:eco-tours@oceanconnectors.org
END:VEVENT
BEGIN:VEVENT
DTSTART;TZID=America/Los_Angeles:20240821T103000
DTEND;TZID=America/Los_Angeles:20240821T130000
DTSTAMP:20260421T021306
CREATED:20240430T210020Z
LAST-MODIFIED:20240502T182004Z
UID:10000332-1724236200-1724245200@oceanconnectors.org
SUMMARY:Community Kayak Cleanup
DESCRIPTION:Be an Ocean Connector and join us on one of our Kayak Cleanups!\n\n\n\n \n\n\n\n\n\n \n 
URL:https://oceanconnectors.org/event/community-kayak-cleanup-19/
LOCATION:Chula Vista Bayfront Park\, 980 Marina Way\, Chula Vista\, CA\, 91910\, United States
CATEGORIES:Kayak Clean Up
ATTACH;FMTTYPE=image/jpeg:https://oceanconnectors.org/wp-content/uploads/2024/02/Untitled-design.jpg
ORGANIZER;CN="Eco Tours":MAILTO:eco-tours@oceanconnectors.org
END:VEVENT
BEGIN:VEVENT
DTSTART;TZID=America/Los_Angeles:20240817T090000
DTEND;TZID=America/Los_Angeles:20240817T120000
DTSTAMP:20260421T021306
CREATED:20240506T233205Z
LAST-MODIFIED:20240506T233205Z
UID:10000364-1723885200-1723896000@oceanconnectors.org
SUMMARY:Wildlife Kayaking Eco Tour
DESCRIPTION:Be an Ocean Connector and join us on one of our Wildlife Kayaking adventures!\n\n\n\n \n\n\n\n\n\n \n 
URL:https://oceanconnectors.org/event/wildlife-kayaking-eco-tour-53/
LOCATION:Bayside Park\, 999 Bayside Pkwy\, Chula Vista\, 91910
CATEGORIES:Wildlife Kayaking
ATTACH;FMTTYPE=image/jpeg:https://oceanconnectors.org/wp-content/uploads/2021/08/Wildlife-Kayaking-Eco-Tour-Event-Photo_small-scaled.jpg
ORGANIZER;CN="Eco Tours":MAILTO:eco-tours@oceanconnectors.org
END:VEVENT
BEGIN:VEVENT
DTSTART;TZID=America/Los_Angeles:20240816T080000
DTEND;TZID=America/Los_Angeles:20240816T103000
DTSTAMP:20260421T021306
CREATED:20240430T205955Z
LAST-MODIFIED:20240430T205955Z
UID:10000330-1723795200-1723804200@oceanconnectors.org
SUMMARY:Community Kayak Cleanup
DESCRIPTION:Be an Ocean Connector and join us on one of our Kayak Cleanups!\n\n\n\n \n\n\n\n\n\n \n 
URL:https://oceanconnectors.org/event/community-kayak-cleanup-18/
LOCATION:Pepper Park\, 3299 Tidelands Ave.\, National City\, CA\, 91950\, United States
CATEGORIES:Kayak Clean Up
ATTACH;FMTTYPE=image/jpeg:https://oceanconnectors.org/wp-content/uploads/2024/02/ECO-TOURS-MONTHLY-2240-×-1000-px.-6.jpg
ORGANIZER;CN="Eco Tours":MAILTO:eco-tours@oceanconnectors.org
END:VEVENT
BEGIN:VEVENT
DTSTART;TZID=America/Los_Angeles:20240814T090000
DTEND;TZID=America/Los_Angeles:20240814T110000
DTSTAMP:20260421T021306
CREATED:20240811T173714Z
LAST-MODIFIED:20240814T170250Z
UID:10000382-1723626000-1723633200@oceanconnectors.org
SUMMARY:Wildin' Mission Bay Kayak Eco Tour
DESCRIPTION:Take a guided kayaking tour through Mission Bay. See marine life\, as well as native and migratory bird species as you kayak through this iconic San Diego spot. Also\, learn about local conservation efforts and Ocean Connector’s mission.
URL:https://oceanconnectors.org/event/wildin-mission-bay-kayak-eco-tour-18/
LOCATION:Paradise Point\, Mission Bay\, 1404 Vacation Road\, San Diego\, CA\, 92109\, United States
CATEGORIES:Wildin' Mission Bay
ATTACH;FMTTYPE=image/jpeg:https://oceanconnectors.org/wp-content/uploads/2023/06/kayak3-e1687797669473.jpeg
ORGANIZER;CN="Eco Tours":MAILTO:eco-tours@oceanconnectors.org
END:VEVENT
BEGIN:VEVENT
DTSTART;TZID=America/Los_Angeles:20240808T090000
DTEND;TZID=America/Los_Angeles:20240808T110000
DTSTAMP:20260421T021306
CREATED:20231219T182506Z
LAST-MODIFIED:20231219T182506Z
UID:10000300-1723107600-1723114800@oceanconnectors.org
SUMMARY:Wildin' Mission Bay Kayak Eco Tour
DESCRIPTION:Take a guided kayaking tour through Mission Bay. See marine life\, as well as native and migratory bird species as you kayak through this iconic San Diego spot. Also\, learn about local conservation efforts and Ocean Connector’s mission.
URL:https://oceanconnectors.org/event/wildin-mission-bay-kayak-eco-tour-16/
LOCATION:Paradise Point\, Mission Bay\, 1404 Vacation Road\, San Diego\, CA\, 92109\, United States
CATEGORIES:Wildin' Mission Bay
ATTACH;FMTTYPE=image/jpeg:https://oceanconnectors.org/wp-content/uploads/2023/06/kayak3-e1687797669473.jpeg
ORGANIZER;CN="Eco Tours":MAILTO:eco-tours@oceanconnectors.org
END:VEVENT
BEGIN:VEVENT
DTSTART;TZID=America/Los_Angeles:20240726T090000
DTEND;TZID=America/Los_Angeles:20240726T110000
DTSTAMP:20260421T021306
CREATED:20240514T180807Z
LAST-MODIFIED:20240726T000551Z
UID:10000377-1721984400-1721991600@oceanconnectors.org
SUMMARY:Birding & Brews - Breakfast Edition
DESCRIPTION:Take a guided bird watching nature walk (no bikes on this tour). Enjoy a nitro brew coffee tasting and learn how Trident Coffee’s core values of connection\, community\, and character align with the Ocean Connectors mission.
URL:https://oceanconnectors.org/event/birding-brews-breakfast-edition-5/
LOCATION:San Diego Bay Refuge\, 501 Florence St\, Imperial Beach\, CA\, 91932\, United States
CATEGORIES:Birds and Brews
ATTACH;FMTTYPE=image/jpeg:https://oceanconnectors.org/wp-content/uploads/2023/10/IMG_4972-scaled.jpg
ORGANIZER;CN="Eco Tours":MAILTO:eco-tours@oceanconnectors.org
END:VEVENT
BEGIN:VEVENT
DTSTART;TZID=America/Los_Angeles:20240725T090000
DTEND;TZID=America/Los_Angeles:20240725T110000
DTSTAMP:20260421T021306
CREATED:20231031T003533Z
LAST-MODIFIED:20240710T185717Z
UID:10000292-1721898000-1721905200@oceanconnectors.org
SUMMARY:Wildin' Mission Bay Kayak Eco Tour
DESCRIPTION:Take a guided kayaking tour through Mission Bay. See marine life\, as well as native and migratory bird species as you kayak through this iconic San Diego spot. Also\, learn about local conservation efforts and Ocean Connector’s mission.
URL:https://oceanconnectors.org/event/wildin-mission-bay-kayak-eco-tour-15/
LOCATION:Mission Bay Resort\, 1775 E Mission Bay Dr.\, San Diego\, CA\, 92109\, United States
CATEGORIES:Wildin' Mission Bay
ATTACH;FMTTYPE=image/jpeg:https://oceanconnectors.org/wp-content/uploads/2023/06/kayak3-e1687797669473.jpeg
ORGANIZER;CN="Eco Tours":MAILTO:eco-tours@oceanconnectors.org
END:VEVENT
BEGIN:VEVENT
DTSTART;TZID=America/Los_Angeles:20240723T113000
DTEND;TZID=America/Los_Angeles:20240723T140000
DTSTAMP:20260421T021306
CREATED:20240430T201729Z
LAST-MODIFIED:20240430T201729Z
UID:10000327-1721734200-1721743200@oceanconnectors.org
SUMMARY:Community Kayak Cleanup
DESCRIPTION:Be an Ocean Connector and join us on one of our Kayak Cleanups!\n\n\n\n \n\n\n\n\n\n \n 
URL:https://oceanconnectors.org/event/community-kayak-cleanup-15/
LOCATION:Pepper Park\, 3299 Tidelands Ave.\, National City\, CA\, 91950\, United States
CATEGORIES:Kayak Clean Up
ATTACH;FMTTYPE=image/jpeg:https://oceanconnectors.org/wp-content/uploads/2024/04/Kayak-Cleanup-2_11-2-3-scaled.jpg
ORGANIZER;CN="Eco Tours":MAILTO:eco-tours@oceanconnectors.org
END:VEVENT
BEGIN:VEVENT
DTSTART;TZID=America/Los_Angeles:20240720T093000
DTEND;TZID=America/Los_Angeles:20240720T123000
DTSTAMP:20260421T021306
CREATED:20240605T223403Z
LAST-MODIFIED:20240708T194708Z
UID:10000380-1721467800-1721478600@oceanconnectors.org
SUMMARY:Elodie's Mitzvah Project - Kayak Cleanup
DESCRIPTION:Be an Ocean Connector and join us on one of our Kayak Cleanups!\n\n\n\n \n\n\n\n\n\n \n 
URL:https://oceanconnectors.org/event/elodies-mitzvah-project-kayak-cleanup/
LOCATION:Pepper Park\, 3299 Tidelands Ave.\, National City\, CA\, 91950\, United States
CATEGORIES:Kayak Clean Up
ATTACH;FMTTYPE=image/jpeg:https://oceanconnectors.org/wp-content/uploads/2024/02/Kayak.Cleanup.Pilot_.010823.3-1-scaled.jpg
ORGANIZER;CN="Eco Tours":MAILTO:eco-tours@oceanconnectors.org
END:VEVENT
BEGIN:VEVENT
DTSTART;TZID=America/Los_Angeles:20240719T090000
DTEND;TZID=America/Los_Angeles:20240719T113000
DTSTAMP:20260421T021306
CREATED:20240430T200924Z
LAST-MODIFIED:20240502T182109Z
UID:10000326-1721379600-1721388600@oceanconnectors.org
SUMMARY:Community Kayak Cleanup
DESCRIPTION:Be an Ocean Connector and join us on one of our Kayak Cleanups!\n\n\n\n \n\n\n\n\n\n \n 
URL:https://oceanconnectors.org/event/community-kayak-cleanup-14/
LOCATION:Chula Vista Bayfront Park\, 980 Marina Way\, Chula Vista\, CA\, 91910\, United States
CATEGORIES:Kayak Clean Up
ATTACH;FMTTYPE=image/jpeg:https://oceanconnectors.org/wp-content/uploads/2024/04/Kayak-Cleanup-2_11-2-3-scaled.jpg
ORGANIZER;CN="Eco Tours":MAILTO:eco-tours@oceanconnectors.org
END:VEVENT
BEGIN:VEVENT
DTSTART;TZID=America/Los_Angeles:20240711T090000
DTEND;TZID=America/Los_Angeles:20240711T110000
DTSTAMP:20260421T021306
CREATED:20231031T002648Z
LAST-MODIFIED:20231219T041722Z
UID:10000291-1720688400-1720695600@oceanconnectors.org
SUMMARY:Wildin' Mission Bay Kayak Eco Tour
DESCRIPTION:Take a guided kayaking tour through Mission Bay. See marine life\, as well as native and migratory bird species as you kayak through this iconic San Diego spot. Also\, learn about local conservation efforts and Ocean Connector’s mission.
URL:https://oceanconnectors.org/event/wildin-mission-bay-kayak-eco-tour-14/
LOCATION:Paradise Point\, Mission Bay\, 1404 Vacation Road\, San Diego\, CA\, 92109\, United States
CATEGORIES:Wildin' Mission Bay
ATTACH;FMTTYPE=image/jpeg:https://oceanconnectors.org/wp-content/uploads/2023/06/kayak3-e1687797669473.jpeg
ORGANIZER;CN="Eco Tours":MAILTO:eco-tours@oceanconnectors.org
END:VEVENT
BEGIN:VEVENT
DTSTART;TZID=America/Los_Angeles:20240627T090000
DTEND;TZID=America/Los_Angeles:20240627T110000
DTSTAMP:20260421T021306
CREATED:20231219T040348Z
LAST-MODIFIED:20231219T040812Z
UID:10000290-1719478800-1719486000@oceanconnectors.org
SUMMARY:Wildin' Mission Bay Kayak Eco Tour
DESCRIPTION:Take a guided kayaking tour through Mission Bay. See marine life\, as well as native and migratory bird species as you kayak through this iconic San Diego spot. Also\, learn about local conservation efforts and Ocean Connector’s mission.
URL:https://oceanconnectors.org/event/wildin-mission-bay-kayak-eco-tour-13-2/
LOCATION:Mission Bay Resort\, 1775 E Mission Bay Dr.\, San Diego\, CA\, 92109\, United States
CATEGORIES:Wildin' Mission Bay
ATTACH;FMTTYPE=image/jpeg:https://oceanconnectors.org/wp-content/uploads/2023/06/kayak3-e1687797669473.jpeg
ORGANIZER;CN="Eco Tours":MAILTO:eco-tours@oceanconnectors.org
END:VEVENT
BEGIN:VEVENT
DTSTART;TZID=America/Los_Angeles:20240625T130000
DTEND;TZID=America/Los_Angeles:20240625T153000
DTSTAMP:20260421T021306
CREATED:20240418T222403Z
LAST-MODIFIED:20240502T182217Z
UID:10000324-1719320400-1719329400@oceanconnectors.org
SUMMARY:Community Kayak Cleanup
DESCRIPTION:Be an Ocean Connector and join us on one of our Kayak Cleanups!\n\n\n\n \n\n\n\n\n\n \n 
URL:https://oceanconnectors.org/event/community-kayak-cleanup-13/
LOCATION:Chula Vista Bayfront Park\, 980 Marina Way\, Chula Vista\, CA\, 91910\, United States
CATEGORIES:Kayak Clean Up
ATTACH;FMTTYPE=image/jpeg:https://oceanconnectors.org/wp-content/uploads/2024/04/Kayak-Cleanup-2_11-2-3-scaled.jpg
ORGANIZER;CN="Eco Tours":MAILTO:eco-tours@oceanconnectors.org
END:VEVENT
BEGIN:VEVENT
DTSTART;TZID=America/Los_Angeles:20240624T120000
DTEND;TZID=America/Los_Angeles:20240624T143000
DTSTAMP:20260421T021306
CREATED:20240418T221815Z
LAST-MODIFIED:20240418T221815Z
UID:10000323-1719230400-1719239400@oceanconnectors.org
SUMMARY:Community Kayak Cleanup
DESCRIPTION:Be an Ocean Connector and join us on one of our Kayak Cleanups!\n\n\n\n \n\n\n\n\n\n \n 
URL:https://oceanconnectors.org/event/community-kayak-cleanup-12/
LOCATION:Pepper Park\, 3299 Tidelands Ave.\, National City\, CA\, 91950\, United States
CATEGORIES:Kayak Clean Up
ATTACH;FMTTYPE=image/jpeg:https://oceanconnectors.org/wp-content/uploads/2024/02/Kayak.Cleanup.Pilot_.010823.3-scaled.jpg
ORGANIZER;CN="Eco Tours":MAILTO:eco-tours@oceanconnectors.org
END:VEVENT
BEGIN:VEVENT
DTSTART;TZID=America/Los_Angeles:20240622T090000
DTEND;TZID=America/Los_Angeles:20240622T120000
DTSTAMP:20260421T021306
CREATED:20231025T002110Z
LAST-MODIFIED:20231219T040207Z
UID:10000277-1719046800-1719057600@oceanconnectors.org
SUMMARY:Wildlife Kayaking Eco Tour
DESCRIPTION:Be an Ocean Connector and join us on one of our Wildlife Kayaking adventures!\n\n\n\n \n\n\n\n\n\n \n 
URL:https://oceanconnectors.org/event/wildlife-kayaking-eco-tour-48/
LOCATION:Bayside Park\, 999 Bayside Pkwy\, Chula Vista\, 91910
CATEGORIES:Wildlife Kayaking
ATTACH;FMTTYPE=image/jpeg:https://oceanconnectors.org/wp-content/uploads/2021/08/Wildlife-Kayaking-Eco-Tour-Event-Photo_small-scaled.jpg
ORGANIZER;CN="Eco Tours":MAILTO:eco-tours@oceanconnectors.org
END:VEVENT
BEGIN:VEVENT
DTSTART;TZID=America/Los_Angeles:20240619T083000
DTEND;TZID=America/Los_Angeles:20240619T110000
DTSTAMP:20260421T021306
CREATED:20240418T220727Z
LAST-MODIFIED:20240418T220727Z
UID:10000321-1718785800-1718794800@oceanconnectors.org
SUMMARY:Community Kayak Cleanup
DESCRIPTION:Be an Ocean Connector and join us on one of our Kayak Cleanups!\n\n\n\n \n\n\n\n\n\n \n 
URL:https://oceanconnectors.org/event/community-kayak-cleanup-10/
LOCATION:Pepper Park\, 3299 Tidelands Ave.\, National City\, CA\, 91950\, United States
CATEGORIES:Kayak Clean Up
ATTACH;FMTTYPE=image/jpeg:https://oceanconnectors.org/wp-content/uploads/2024/02/Untitled-design.jpg
ORGANIZER;CN="Eco Tours":MAILTO:eco-tours@oceanconnectors.org
END:VEVENT
BEGIN:VEVENT
DTSTART;TZID=America/Los_Angeles:20240618T080000
DTEND;TZID=America/Los_Angeles:20240618T103000
DTSTAMP:20260421T021306
CREATED:20240418T215932Z
LAST-MODIFIED:20240502T182303Z
UID:10000320-1718697600-1718706600@oceanconnectors.org
SUMMARY:Community Kayak Cleanup
DESCRIPTION:Be an Ocean Connector and join us on one of our Kayak Cleanups!\n\n\n\n \n\n\n\n\n\n \n 
URL:https://oceanconnectors.org/event/community-kayak-cleanup-9/
LOCATION:Chula Vista Bayfront Park\, 980 Marina Way\, Chula Vista\, CA\, 91910\, United States
CATEGORIES:Kayak Clean Up
ATTACH;FMTTYPE=image/jpeg:https://oceanconnectors.org/wp-content/uploads/2024/04/Kayak-Cleanup-2_11-2-3-scaled.jpg
ORGANIZER;CN="Eco Tours":MAILTO:eco-tours@oceanconnectors.org
END:VEVENT
BEGIN:VEVENT
DTSTART;TZID=America/Los_Angeles:20240611T090000
DTEND;TZID=America/Los_Angeles:20240611T110000
DTSTAMP:20260421T021307
CREATED:20231031T000640Z
LAST-MODIFIED:20240607T025645Z
UID:10000289-1718096400-1718103600@oceanconnectors.org
SUMMARY:Wildin' Mission Bay Kayak Eco Tour
DESCRIPTION:Take a guided kayaking tour through Mission Bay. See marine life\, as well as native and migratory bird species as you kayak through this iconic San Diego spot. Also\, learn about local conservation efforts and Ocean Connector’s mission.
URL:https://oceanconnectors.org/event/wildin-mission-bay-kayak-eco-tour-12/
LOCATION:Mission Bay Resort\, 1775 E Mission Bay Dr.\, San Diego\, CA\, 92109\, United States
CATEGORIES:Wildin' Mission Bay
ATTACH;FMTTYPE=image/jpeg:https://oceanconnectors.org/wp-content/uploads/2023/06/kayak3-e1687797669473.jpeg
ORGANIZER;CN="Eco Tours":MAILTO:eco-tours@oceanconnectors.org
END:VEVENT
BEGIN:VEVENT
DTSTART;TZID=America/Los_Angeles:20240608T090000
DTEND;TZID=America/Los_Angeles:20240608T120000
DTSTAMP:20260421T021307
CREATED:20231219T035212Z
LAST-MODIFIED:20231219T035600Z
UID:10000275-1717837200-1717848000@oceanconnectors.org
SUMMARY:Wildlife Kayaking Eco Tour
DESCRIPTION:Be an Ocean Connector and join us on one of our Wildlife Kayaking adventures!\n\n\n\n \n\n\n\n\n\n \n 
URL:https://oceanconnectors.org/event/wildlife-kayaking-eco-tour-47-2/
LOCATION:Bayside Park\, 999 Bayside Pkwy\, Chula Vista\, 91910
CATEGORIES:Wildlife Kayaking
ATTACH;FMTTYPE=image/jpeg:https://oceanconnectors.org/wp-content/uploads/2021/08/Wildlife-Kayaking-Eco-Tour-Event-Photo_small-scaled.jpg
ORGANIZER;CN="Eco Tours":MAILTO:eco-tours@oceanconnectors.org
END:VEVENT
BEGIN:VEVENT
DTSTART;TZID=America/Los_Angeles:20240603T080000
DTEND;TZID=America/Los_Angeles:20240603T103000
DTSTAMP:20260421T021307
CREATED:20240418T215345Z
LAST-MODIFIED:20240418T215345Z
UID:10000319-1717401600-1717410600@oceanconnectors.org
SUMMARY:Community Kayak Cleanup
DESCRIPTION:Be an Ocean Connector and join us on one of our Kayak Cleanups!\n\n\n\n \n\n\n\n\n\n \n 
URL:https://oceanconnectors.org/event/community-kayak-cleanup-8/
LOCATION:Pepper Park\, 3299 Tidelands Ave.\, National City\, CA\, 91950\, United States
CATEGORIES:Kayak Clean Up
ATTACH;FMTTYPE=image/jpeg:https://oceanconnectors.org/wp-content/uploads/2024/02/Kayak.Cleanup.Pilot_.010823.3-1-scaled.jpg
ORGANIZER;CN="Eco Tours":MAILTO:eco-tours@oceanconnectors.org
END:VEVENT
BEGIN:VEVENT
DTSTART;TZID=America/Los_Angeles:20240528T070000
DTEND;TZID=America/Los_Angeles:20240528T090000
DTSTAMP:20260421T021307
CREATED:20240429T193532Z
LAST-MODIFIED:20240502T173159Z
UID:10000325-1716879600-1716886800@oceanconnectors.org
SUMMARY:Sunrise Tidepool Exploration
DESCRIPTION:Be an Ocean Connector and explore San Diego’s diverse intertidal zone on this naturalist-led Tidepooling Eco Tour! \nWe will walk through the tide pools together while identifying and interacting with the various species that live there. Our naturalist guide will teach you about local ecology and conservation.
URL:https://oceanconnectors.org/event/sunrise-tidepool-exploration/
LOCATION:Top Secret Location\, CA\, United States
CATEGORIES:Tidepooling
ATTACH;FMTTYPE=image/jpeg:https://oceanconnectors.org/wp-content/uploads/2023/04/PXL_20230320_225516269-1-scaled-e1684861970446.jpg
ORGANIZER;CN="Eco Tours":MAILTO:eco-tours@oceanconnectors.org
END:VEVENT
BEGIN:VEVENT
DTSTART;TZID=America/Los_Angeles:20240524T103000
DTEND;TZID=America/Los_Angeles:20240524T130000
DTSTAMP:20260421T021307
CREATED:20240413T035333Z
LAST-MODIFIED:20240502T181101Z
UID:10000318-1716546600-1716555600@oceanconnectors.org
SUMMARY:Community Kayak Cleanup
DESCRIPTION:Be an Ocean Connector and join us on one of our Kayak Cleanups!\n\n\n\n \n\n\n\n\n\n \n 
URL:https://oceanconnectors.org/event/community-kayak-cleanup-7/
LOCATION:Chula Vista Bayfront Park\, 980 Marina Way\, Chula Vista\, CA\, 91910\, United States
CATEGORIES:Kayak Clean Up
ATTACH;FMTTYPE=image/jpeg:https://oceanconnectors.org/wp-content/uploads/2024/02/Untitled-design.jpg
ORGANIZER;CN="Eco Tours":MAILTO:eco-tours@oceanconnectors.org
END:VEVENT
BEGIN:VEVENT
DTSTART;TZID=America/Los_Angeles:20240523T100000
DTEND;TZID=America/Los_Angeles:20240523T123000
DTSTAMP:20260421T021307
CREATED:20240413T034752Z
LAST-MODIFIED:20240413T034752Z
UID:10000317-1716458400-1716467400@oceanconnectors.org
SUMMARY:Community Kayak Cleanup
DESCRIPTION:Be an Ocean Connector and join us on one of our Kayak Cleanups!\n\n\n\n \n\n\n\n\n\n \n 
URL:https://oceanconnectors.org/event/community-kayak-cleanup-6/
LOCATION:Pepper Park\, 3299 Tidelands Ave.\, National City\, CA\, 91950\, United States
CATEGORIES:Kayak Clean Up
ATTACH;FMTTYPE=image/jpeg:https://oceanconnectors.org/wp-content/uploads/2024/02/Untitled-design.jpg
ORGANIZER;CN="Eco Tours":MAILTO:eco-tours@oceanconnectors.org
END:VEVENT
END:VCALENDAR