BEGIN:VCALENDAR
VERSION:2.0
PRODID:-//Ocean Connectors - ECPv6.15.18//NONSGML v1.0//EN
CALSCALE:GREGORIAN
METHOD:PUBLISH
X-WR-CALNAME:Ocean Connectors
X-ORIGINAL-URL:https://oceanconnectors.org
X-WR-CALDESC:Events for Ocean Connectors
REFRESH-INTERVAL;VALUE=DURATION:PT1H
X-Robots-Tag:noindex
X-PUBLISHED-TTL:PT1H
BEGIN:VTIMEZONE
TZID:UTC
BEGIN:STANDARD
TZOFFSETFROM:+0000
TZOFFSETTO:+0000
TZNAME:UTC
DTSTART:20210101T000000
END:STANDARD
END:VTIMEZONE
BEGIN:VEVENT
DTSTART;TZID=UTC:20220212T090000
DTEND;TZID=UTC:20220212T130000
DTSTAMP:20260422T053333
CREATED:20210930T235251Z
LAST-MODIFIED:20220127T035500Z
UID:10000178-1644656400-1644670800@oceanconnectors.org
SUMMARY:Whale Watching Eco Tour
DESCRIPTION:Be an Ocean Connector and join us on one of our Whale Watching and Citizen Science adventures!\n\n\n\n 
URL:https://oceanconnectors.org/event/whale-watching-eco-tour-3/
LOCATION:San Diego Embarcadero\, 990 North Harbor Drive\, San Diego\, CA\, 92101\, United States
CATEGORIES:Whale Watching
ATTACH;FMTTYPE=image/jpeg:https://oceanconnectors.org/wp-content/uploads/2021/09/Whale-Watching-Eco-Tour-Event-Photo_small.jpg
END:VEVENT
BEGIN:VEVENT
DTSTART;TZID=UTC:20220305T090000
DTEND;TZID=UTC:20220305T120000
DTSTAMP:20260422T053333
CREATED:20210814T033931Z
LAST-MODIFIED:20220303T061155Z
UID:10000149-1646470800-1646481600@oceanconnectors.org
SUMMARY:Wildlife Kayaking Eco Tour
DESCRIPTION:  \nBe an Ocean Connector and join us on one of our Wildlife Kayaking adventures!\n\n\n\n \n\n\n\n\n\n \n 
URL:https://oceanconnectors.org/event/wildlife-kayaking-eco-tour-3/
LOCATION:Bayside Park\, 999 Bayside Pkwy\, Chula Vista\, 91910
CATEGORIES:Wildlife Kayaking
ATTACH;FMTTYPE=image/jpeg:https://oceanconnectors.org/wp-content/uploads/2021/08/Wildlife-Kayaking-Eco-Tour-Event-Photo_small-scaled.jpg
ORGANIZER;CN="Shailey Heller":MAILTO:shailey@oceanconnectors.org
END:VEVENT
BEGIN:VEVENT
DTSTART;TZID=UTC:20220312T090000
DTEND;TZID=UTC:20220312T130000
DTSTAMP:20260422T053333
CREATED:20210930T235251Z
LAST-MODIFIED:20220302T061200Z
UID:10000179-1647075600-1647090000@oceanconnectors.org
SUMMARY:Whale Watching Eco Tour
DESCRIPTION:Be an Ocean Connector and join us on one of our Whale Watching and Citizen Science adventures!\n\n\n\n \n\n\n\n\n\n \n 
URL:https://oceanconnectors.org/event/whale-watching-eco-tour-4/
LOCATION:San Diego Embarcadero\, 990 North Harbor Drive\, San Diego\, CA\, 92101\, United States
CATEGORIES:Whale Watching
ATTACH;FMTTYPE=image/jpeg:https://oceanconnectors.org/wp-content/uploads/2021/09/Whale-Watching-Eco-Tour-Event-Photo_small.jpg
ORGANIZER;CN="Shailey Heller":MAILTO:shailey@oceanconnectors.org
END:VEVENT
BEGIN:VEVENT
DTSTART;TZID=UTC:20220326T090000
DTEND;TZID=UTC:20220326T120000
DTSTAMP:20260422T053333
CREATED:20210814T033931Z
LAST-MODIFIED:20220318T165100Z
UID:10000154-1648285200-1648296000@oceanconnectors.org
SUMMARY:Birding & Biking Eco Tour
DESCRIPTION:Be an Ocean Connector and join us on one of our Birding and Biking adventures!\n\n\n\n\n \n\n\n\n\n \n\n \n \n 
URL:https://oceanconnectors.org/event/birding-biking-eco-tour-5/
LOCATION:San Diego Bay Refuge\, 501 Florence St\, Imperial Beach\, CA\, 91932\, United States
CATEGORIES:Birding and Biking
ATTACH;FMTTYPE=image/jpeg:https://oceanconnectors.org/wp-content/uploads/2021/08/Birding-and-Biking-Eco-Tour-Event-Photo-scaled.jpg
ORGANIZER;CN="Shailey Heller":MAILTO:shailey@oceanconnectors.org
END:VEVENT
BEGIN:VEVENT
DTSTART;TZID=UTC:20220402T090000
DTEND;TZID=UTC:20220402T130000
DTSTAMP:20260422T053333
CREATED:20210930T235251Z
LAST-MODIFIED:20220216T014838Z
UID:10000180-1648890000-1648904400@oceanconnectors.org
SUMMARY:Whale Watching Eco Tour
DESCRIPTION:Be an Ocean Connector and join us on one of our Whale Watching and Citizen Science adventures!\n\n\n\n \n\n\n\n\n\n \n 
URL:https://oceanconnectors.org/event/whale-watching-eco-tour-5/
LOCATION:San Diego Embarcadero\, 990 North Harbor Drive\, San Diego\, CA\, 92101\, United States
CATEGORIES:Whale Watching
ATTACH;FMTTYPE=image/jpeg:https://oceanconnectors.org/wp-content/uploads/2021/09/Whale-Watching-Eco-Tour-Event-Photo_small.jpg
ORGANIZER;CN="Shailey Heller":MAILTO:shailey@oceanconnectors.org
END:VEVENT
BEGIN:VEVENT
DTSTART;TZID=UTC:20220416T090000
DTEND;TZID=UTC:20220416T120000
DTSTAMP:20260422T053333
CREATED:20210814T033931Z
LAST-MODIFIED:20220216T021805Z
UID:10000150-1650099600-1650110400@oceanconnectors.org
SUMMARY:Wildlife Kayaking Eco Tour
DESCRIPTION:Be an Ocean Connector and join us on one of our Wildlife Kayaking adventures!\n\n\n\n \n\n\n\n\n\n \n 
URL:https://oceanconnectors.org/event/wildlife-kayaking-eco-tour-5/
LOCATION:Bayside Park\, 999 Bayside Pkwy\, Chula Vista\, 91910
CATEGORIES:Wildlife Kayaking
ATTACH;FMTTYPE=image/jpeg:https://oceanconnectors.org/wp-content/uploads/2021/08/Wildlife-Kayaking-Eco-Tour-Event-Photo_small-scaled.jpg
ORGANIZER;CN="Shailey Heller":MAILTO:shailey@oceanconnectors.org
END:VEVENT
BEGIN:VEVENT
DTSTART;TZID=UTC:20220430T090000
DTEND;TZID=UTC:20220430T120000
DTSTAMP:20260422T053333
CREATED:20210814T033931Z
LAST-MODIFIED:20220216T021140Z
UID:10000155-1651309200-1651320000@oceanconnectors.org
SUMMARY:Birding & Biking Eco Tour
DESCRIPTION:Be an Ocean Connector and join us on one of our Birding and Biking adventures!\n\n\n\n \n\n\n\n\n\n \n 
URL:https://oceanconnectors.org/event/birding-biking-eco-tour-6/
LOCATION:San Diego Bay Refuge\, 501 Florence St\, Imperial Beach\, CA\, 91932\, United States
CATEGORIES:Birding and Biking
ATTACH;FMTTYPE=image/jpeg:https://oceanconnectors.org/wp-content/uploads/2021/08/Birding-and-Biking-Eco-Tour-Event-Photo-scaled.jpg
ORGANIZER;CN="Shailey Heller":MAILTO:shailey@oceanconnectors.org
END:VEVENT
BEGIN:VEVENT
DTSTART;TZID=UTC:20220507T093000
DTEND;TZID=UTC:20220507T110000
DTSTAMP:20260422T053333
CREATED:20210930T235251Z
LAST-MODIFIED:20220326T191836Z
UID:10000182-1651915800-1651921200@oceanconnectors.org
SUMMARY:Sea Lion and Harbor Eco Tour
DESCRIPTION:Be an Ocean Connector and join us on one of our Sea Lion and Harbor Eco Tours!\n\n\n\n \n\n\n\n\n\n \n 
URL:https://oceanconnectors.org/event/sea-lion-and-harbor-eco-tour/
LOCATION:San Diego Embarcadero\, 990 North Harbor Drive\, San Diego\, CA\, 92101\, United States
CATEGORIES:Sea Lion Harbor
ATTACH;FMTTYPE=image/jpeg:https://oceanconnectors.org/wp-content/uploads/2022/03/sea-lion-and-cub.jpg
ORGANIZER;CN="Shailey Heller":MAILTO:shailey@oceanconnectors.org
END:VEVENT
BEGIN:VEVENT
DTSTART;TZID=UTC:20220514T090000
DTEND;TZID=UTC:20220514T120000
DTSTAMP:20260422T053333
CREATED:20210814T033931Z
LAST-MODIFIED:20220429T220401Z
UID:10000151-1652518800-1652529600@oceanconnectors.org
SUMMARY:Wildlife Kayaking Eco Tour
DESCRIPTION:Be an Ocean Connector and join us on one of our Wildlife Kayaking adventures!\n\n \n\n\n \n \n \n\n \n \n \n \n 
URL:https://oceanconnectors.org/event/wildlife-kayaking-eco-tour-6/
LOCATION:Bayside Park\, 999 Bayside Pkwy\, Chula Vista\, 91910
CATEGORIES:Wildlife Kayaking
ATTACH;FMTTYPE=image/jpeg:https://oceanconnectors.org/wp-content/uploads/2021/08/Wildlife-Kayaking-Eco-Tour-Event-Photo_small-scaled.jpg
ORGANIZER;CN="Shailey Heller":MAILTO:shailey@oceanconnectors.org
END:VEVENT
BEGIN:VEVENT
DTSTART;TZID=UTC:20220618T093000
DTEND;TZID=UTC:20220618T110000
DTSTAMP:20260422T053333
CREATED:20210930T235251Z
LAST-MODIFIED:20220326T191857Z
UID:10000183-1655544600-1655550000@oceanconnectors.org
SUMMARY:Sea Lion and Harbor Eco Tour
DESCRIPTION:Be an Ocean Connector and join us on one of our Sea Lion and Harbor Eco Tours!\n\n\n\n \n\n\n\n\n\n \n 
URL:https://oceanconnectors.org/event/sea-lion-and-harbor-eco-tour-2/
LOCATION:San Diego Embarcadero\, 990 North Harbor Drive\, San Diego\, CA\, 92101\, United States
CATEGORIES:Sea Lion Harbor
ATTACH;FMTTYPE=image/jpeg:https://oceanconnectors.org/wp-content/uploads/2022/03/sea-lion-and-cub.jpg
ORGANIZER;CN="Shailey Heller":MAILTO:shailey@oceanconnectors.org
END:VEVENT
BEGIN:VEVENT
DTSTART;TZID=UTC:20220625T090000
DTEND;TZID=UTC:20220625T120000
DTSTAMP:20260422T053333
CREATED:20210814T033931Z
LAST-MODIFIED:20220216T022255Z
UID:10000152-1656147600-1656158400@oceanconnectors.org
SUMMARY:Wildlife Kayaking Eco Tour
DESCRIPTION:Be an Ocean Connector and join us on one of our Wildlife Kayaking adventures!\n\n\n\n \n\n\n\n\n\n \n 
URL:https://oceanconnectors.org/event/wildlife-kayaking-eco-tour-7/
LOCATION:Bayside Park\, 999 Bayside Pkwy\, Chula Vista\, 91910
CATEGORIES:Wildlife Kayaking
ATTACH;FMTTYPE=image/jpeg:https://oceanconnectors.org/wp-content/uploads/2021/08/Wildlife-Kayaking-Eco-Tour-Event-Photo_small-scaled.jpg
ORGANIZER;CN="Shailey Heller":MAILTO:shailey@oceanconnectors.org
END:VEVENT
BEGIN:VEVENT
DTSTART;TZID=UTC:20220709T090000
DTEND;TZID=UTC:20220709T120000
DTSTAMP:20260422T053333
CREATED:20210814T033931Z
LAST-MODIFIED:20220621T153119Z
UID:10000156-1657357200-1657368000@oceanconnectors.org
SUMMARY:Wildlife Kayaking Eco Tour
DESCRIPTION:Be an Ocean Connector and join us on one of our Wildlife Kayaking adventures!\n\n\n\n \n\n\n\n\n\n \n 
URL:https://oceanconnectors.org/event/wildlife-kayaking-eco-tour-8/
LOCATION:Bayside Park\, 999 Bayside Pkwy\, Chula Vista\, 91910
CATEGORIES:Wildlife Kayaking
ATTACH;FMTTYPE=image/jpeg:https://oceanconnectors.org/wp-content/uploads/2021/08/Wildlife-Kayaking-Eco-Tour-Event-Photo_small-scaled.jpg
ORGANIZER;CN="Shailey Heller":MAILTO:shailey@oceanconnectors.org
END:VEVENT
BEGIN:VEVENT
DTSTART;TZID=UTC:20220716T090000
DTEND;TZID=UTC:20220716T120000
DTSTAMP:20260422T053333
CREATED:20210814T033931Z
LAST-MODIFIED:20220216T023718Z
UID:10000162-1657962000-1657972800@oceanconnectors.org
SUMMARY:Birding & Biking Eco Tour
DESCRIPTION:Be an Ocean Connector and join us on one of our Birding and Biking adventures!\n\n\n\n \n\n\n\n\n\n \n 
URL:https://oceanconnectors.org/event/birding-biking-eco-tour-7/
LOCATION:San Diego Bay Refuge\, 501 Florence St\, Imperial Beach\, CA\, 91932\, United States
CATEGORIES:Birding and Biking
ATTACH;FMTTYPE=image/jpeg:https://oceanconnectors.org/wp-content/uploads/2021/08/Birding-and-Biking-Eco-Tour-Event-Photo-scaled.jpg
ORGANIZER;CN="Shailey Heller":MAILTO:shailey@oceanconnectors.org
END:VEVENT
BEGIN:VEVENT
DTSTART;TZID=UTC:20220723T090000
DTEND;TZID=UTC:20220723T120000
DTSTAMP:20260422T053333
CREATED:20210814T033931Z
LAST-MODIFIED:20220621T154050Z
UID:10000159-1658566800-1658577600@oceanconnectors.org
SUMMARY:Wildlife Kayaking Eco Tour
DESCRIPTION:Be an Ocean Connector and join us on one of our Wildlife Kayaking adventures!\n\n\n\n \n\n\n\n\n\n \n 
URL:https://oceanconnectors.org/event/wildlife-kayaking-eco-tour-11/
LOCATION:Bayside Park\, 999 Bayside Pkwy\, Chula Vista\, 91910
CATEGORIES:Wildlife Kayaking
ATTACH;FMTTYPE=image/jpeg:https://oceanconnectors.org/wp-content/uploads/2021/08/Wildlife-Kayaking-Eco-Tour-Event-Photo_small-scaled.jpg
ORGANIZER;CN="Shailey Heller":MAILTO:shailey@oceanconnectors.org
END:VEVENT
BEGIN:VEVENT
DTSTART;TZID=UTC:20220724T090000
DTEND;TZID=UTC:20220724T120000
DTSTAMP:20260422T053333
CREATED:20210814T033931Z
LAST-MODIFIED:20220621T155417Z
UID:10000168-1658653200-1658664000@oceanconnectors.org
SUMMARY:Wildlife Kayaking Eco Tour
DESCRIPTION:Be an Ocean Connector and join us on one of our Wildlife Kayaking adventures!\n\n\n\n \n\n\n\n\n\n \n 
URL:https://oceanconnectors.org/event/wildlife-kayaking-eco-tour-15/
LOCATION:Bayside Park\, 999 Bayside Pkwy\, Chula Vista\, 91910
CATEGORIES:Wildlife Kayaking
ATTACH;FMTTYPE=image/jpeg:https://oceanconnectors.org/wp-content/uploads/2021/08/Wildlife-Kayaking-Eco-Tour-Event-Photo_small-scaled.jpg
ORGANIZER;CN="Shailey Heller":MAILTO:shailey@oceanconnectors.org
END:VEVENT
BEGIN:VEVENT
DTSTART;TZID=UTC:20220806T080000
DTEND;TZID=UTC:20220806T110000
DTSTAMP:20260422T053333
CREATED:20210814T033931Z
LAST-MODIFIED:20220805T231831Z
UID:10000172-1659772800-1659783600@oceanconnectors.org
SUMMARY:Wildlife Kayaking Eco Tour
DESCRIPTION:Be an Ocean Connector and join us on one of our Wildlife Kayaking adventures!\n\n\n\n \n\n\n\n\n\n \n 
URL:https://oceanconnectors.org/event/wildlife-kayaking-eco-tour-19/
LOCATION:Bayside Park\, 999 Bayside Pkwy\, Chula Vista\, 91910
CATEGORIES:Wildlife Kayaking
ATTACH;FMTTYPE=image/jpeg:https://oceanconnectors.org/wp-content/uploads/2021/08/Wildlife-Kayaking-Eco-Tour-Event-Photo_small-scaled.jpg
ORGANIZER;CN="Shailey Heller":MAILTO:shailey@oceanconnectors.org
END:VEVENT
BEGIN:VEVENT
DTSTART;TZID=UTC:20220807T090000
DTEND;TZID=UTC:20220807T120000
DTSTAMP:20260422T053333
CREATED:20210814T033931Z
LAST-MODIFIED:20220805T225944Z
UID:10000169-1659862800-1659873600@oceanconnectors.org
SUMMARY:Wildlife Kayaking Eco Tour
DESCRIPTION:Be an Ocean Connector and join us on one of our Wildlife Kayaking adventures!\n\n\n\n \n\n\n\n\n\n \n 
URL:https://oceanconnectors.org/event/wildlife-kayaking-eco-tour-16/
LOCATION:Bayside Park\, 999 Bayside Pkwy\, Chula Vista\, 91910
CATEGORIES:Wildlife Kayaking
ATTACH;FMTTYPE=image/jpeg:https://oceanconnectors.org/wp-content/uploads/2021/08/Wildlife-Kayaking-Eco-Tour-Event-Photo_small-scaled.jpg
ORGANIZER;CN="Shailey Heller":MAILTO:shailey@oceanconnectors.org
END:VEVENT
BEGIN:VEVENT
DTSTART;TZID=UTC:20220813T090000
DTEND;TZID=UTC:20220813T120000
DTSTAMP:20260422T053333
CREATED:20210814T033931Z
LAST-MODIFIED:20220806T010113Z
UID:10000167-1660381200-1660392000@oceanconnectors.org
SUMMARY:Wildlife Kayaking Eco Tour
DESCRIPTION:Be an Ocean Connector and join us on one of our Wildlife Kayaking adventures!\n\n\n\n \n\n\n\n\n\n \n 
URL:https://oceanconnectors.org/event/wildlife-kayaking-eco-tour-14/
LOCATION:Bayside Park\, 999 Bayside Pkwy\, Chula Vista\, 91910
CATEGORIES:Wildlife Kayaking
ATTACH;FMTTYPE=image/jpeg:https://oceanconnectors.org/wp-content/uploads/2021/08/Wildlife-Kayaking-Eco-Tour-Event-Photo_small-scaled.jpg
ORGANIZER;CN="Shailey Heller":MAILTO:shailey@oceanconnectors.org
END:VEVENT
BEGIN:VEVENT
DTSTART;TZID=UTC:20220814T090000
DTEND;TZID=UTC:20220814T120000
DTSTAMP:20260422T053333
CREATED:20210814T033931Z
LAST-MODIFIED:20220806T010649Z
UID:10000170-1660467600-1660478400@oceanconnectors.org
SUMMARY:Wildlife Kayaking Eco Tour
DESCRIPTION:Be an Ocean Connector and join us on one of our Wildlife Kayaking adventures!\n\n\n\n \n\n\n\n\n\n \n 
URL:https://oceanconnectors.org/event/wildlife-kayaking-eco-tour-17/
LOCATION:Bayside Park\, 999 Bayside Pkwy\, Chula Vista\, 91910
CATEGORIES:Wildlife Kayaking
ATTACH;FMTTYPE=image/jpeg:https://oceanconnectors.org/wp-content/uploads/2021/08/Wildlife-Kayaking-Eco-Tour-Event-Photo_small-scaled.jpg
ORGANIZER;CN="Shailey Heller":MAILTO:shailey@oceanconnectors.org
END:VEVENT
BEGIN:VEVENT
DTSTART;TZID=UTC:20220827T090000
DTEND;TZID=UTC:20220827T120000
DTSTAMP:20260422T053333
CREATED:20210814T033931Z
LAST-MODIFIED:20220806T010850Z
UID:10000171-1661590800-1661601600@oceanconnectors.org
SUMMARY:Wildlife Kayaking Eco Tour
DESCRIPTION:Be an Ocean Connector and join us on one of our Wildlife Kayaking adventures!\n\n\n\n \n\n\n\n\n\n \n 
URL:https://oceanconnectors.org/event/wildlife-kayaking-eco-tour-18/
LOCATION:Bayside Park\, 999 Bayside Pkwy\, Chula Vista\, 91910
CATEGORIES:Wildlife Kayaking
ATTACH;FMTTYPE=image/jpeg:https://oceanconnectors.org/wp-content/uploads/2021/08/Wildlife-Kayaking-Eco-Tour-Event-Photo_small-scaled.jpg
ORGANIZER;CN="Shailey Heller":MAILTO:shailey@oceanconnectors.org
END:VEVENT
BEGIN:VEVENT
DTSTART;TZID=UTC:20220828T090000
DTEND;TZID=UTC:20220828T120000
DTSTAMP:20260422T053333
CREATED:20210814T033931Z
LAST-MODIFIED:20220806T011329Z
UID:10000173-1661677200-1661688000@oceanconnectors.org
SUMMARY:Wildlife Kayaking Eco Tour
DESCRIPTION:Be an Ocean Connector and join us on one of our Wildlife Kayaking adventures!\n\n\n\n \n\n\n\n\n\n \n 
URL:https://oceanconnectors.org/event/wildlife-kayaking-eco-tour-20/
LOCATION:Bayside Park\, 999 Bayside Pkwy\, Chula Vista\, 91910
CATEGORIES:Wildlife Kayaking
ATTACH;FMTTYPE=image/jpeg:https://oceanconnectors.org/wp-content/uploads/2021/08/Wildlife-Kayaking-Eco-Tour-Event-Photo_small-scaled.jpg
ORGANIZER;CN="Shailey Heller":MAILTO:shailey@oceanconnectors.org
END:VEVENT
BEGIN:VEVENT
DTSTART;TZID=UTC:20220910T093000
DTEND;TZID=UTC:20220910T110000
DTSTAMP:20260422T053333
CREATED:20210930T235251Z
LAST-MODIFIED:20220616T210400Z
UID:10000184-1662802200-1662807600@oceanconnectors.org
SUMMARY:Sea Lion and Harbor Eco Tour
DESCRIPTION:Be an Ocean Connector and join us on one of our Sea Lion and Harbor Eco Tours!\n\n\n\n \n\n\n\n\n\n \n 
URL:https://oceanconnectors.org/event/sea-lion-and-harbor-eco-tour-3/
LOCATION:San Diego Embarcadero\, 990 North Harbor Drive\, San Diego\, CA\, 92101\, United States
CATEGORIES:Sea Lion Harbor
ATTACH;FMTTYPE=image/jpeg:https://oceanconnectors.org/wp-content/uploads/2022/03/sea-lion-and-cub.jpg
ORGANIZER;CN="Shailey Heller":MAILTO:shailey@oceanconnectors.org
END:VEVENT
BEGIN:VEVENT
DTSTART;TZID=UTC:20220917T090000
DTEND;TZID=UTC:20220917T120000
DTSTAMP:20260422T053333
CREATED:20210814T033931Z
LAST-MODIFIED:20220216T042709Z
UID:10000163-1663405200-1663416000@oceanconnectors.org
SUMMARY:Birding & Biking Eco Tour
DESCRIPTION:Be an Ocean Connector and join us on one of our Birding and Biking adventures!\n\n\n\n \n\n\n\n\n\n \n 
URL:https://oceanconnectors.org/event/birding-biking-eco-tour-9/
LOCATION:San Diego Bay Refuge\, 501 Florence St\, Imperial Beach\, CA\, 91932\, United States
CATEGORIES:Birding and Biking
ATTACH;FMTTYPE=image/jpeg:https://oceanconnectors.org/wp-content/uploads/2021/08/Birding-and-Biking-Eco-Tour-Event-Photo-scaled.jpg
ORGANIZER;CN="Shailey Heller":MAILTO:shailey@oceanconnectors.org
END:VEVENT
BEGIN:VEVENT
DTSTART;TZID=UTC:20220924T090000
DTEND;TZID=UTC:20220924T120000
DTSTAMP:20260422T053333
CREATED:20210814T033931Z
LAST-MODIFIED:20220815T183622Z
UID:10000157-1664010000-1664020800@oceanconnectors.org
SUMMARY:Wildlife Kayaking Eco Tour
DESCRIPTION:Be an Ocean Connector and join us on one of our Wildlife Kayaking adventures!\n\n\n\n \n\n\n\n\n\n \n 
URL:https://oceanconnectors.org/event/wildlife-kayaking-eco-tour-9/
LOCATION:Bayside Park\, 999 Bayside Pkwy\, Chula Vista\, 91910
CATEGORIES:Wildlife Kayaking
ATTACH;FMTTYPE=image/jpeg:https://oceanconnectors.org/wp-content/uploads/2021/08/Wildlife-Kayaking-Eco-Tour-Event-Photo_small-scaled.jpg
ORGANIZER;CN="Shailey Heller":MAILTO:shailey@oceanconnectors.org
END:VEVENT
BEGIN:VEVENT
DTSTART;TZID=UTC:20221008T090000
DTEND;TZID=UTC:20221008T120000
DTSTAMP:20260422T053333
CREATED:20210814T033931Z
LAST-MODIFIED:20220831T205842Z
UID:10000158-1665219600-1665230400@oceanconnectors.org
SUMMARY:Wildlife Kayaking Eco Tour
DESCRIPTION:Be an Ocean Connector and join us on one of our Wildlife Kayaking adventures!\n\n\n\n \n\n\n\n\n\n \n 
URL:https://oceanconnectors.org/event/wildlife-kayaking-eco-tour-10/
LOCATION:Bayside Park\, 999 Bayside Pkwy\, Chula Vista\, 91910
CATEGORIES:Wildlife Kayaking
ATTACH;FMTTYPE=image/jpeg:https://oceanconnectors.org/wp-content/uploads/2021/08/Wildlife-Kayaking-Eco-Tour-Event-Photo_small-scaled.jpg
ORGANIZER;CN="Shailey Heller":MAILTO:shailey@oceanconnectors.org
END:VEVENT
BEGIN:VEVENT
DTSTART;TZID=UTC:20221015T093000
DTEND;TZID=UTC:20221015T110000
DTSTAMP:20260422T053333
CREATED:20210930T235251Z
LAST-MODIFIED:20220616T210938Z
UID:10000185-1665826200-1665831600@oceanconnectors.org
SUMMARY:Sea Lion and Harbor Eco Tour
DESCRIPTION:Be an Ocean Connector and join us on one of our Sea Lion and Harbor Eco Tours!\n\n\n\n \n\n\n\n\n\n \n 
URL:https://oceanconnectors.org/event/sea-lion-and-harbor-eco-tour-4/
LOCATION:San Diego Embarcadero\, 990 North Harbor Drive\, San Diego\, CA\, 92101\, United States
CATEGORIES:Sea Lion Harbor
ATTACH;FMTTYPE=image/jpeg:https://oceanconnectors.org/wp-content/uploads/2022/03/sea-lion-and-cub.jpg
ORGANIZER;CN="Shailey Heller":MAILTO:shailey@oceanconnectors.org
END:VEVENT
BEGIN:VEVENT
DTSTART;TZID=UTC:20221029T090000
DTEND;TZID=UTC:20221029T120000
DTSTAMP:20260422T053333
CREATED:20210814T033931Z
LAST-MODIFIED:20220216T043726Z
UID:10000164-1667034000-1667044800@oceanconnectors.org
SUMMARY:Birding & Biking Eco Tour
DESCRIPTION:Be an Ocean Connector and join us on one of our Birding and Biking adventures!\n\n\n\n \n\n\n\n\n\n \n 
URL:https://oceanconnectors.org/event/birding-biking-eco-tour-10/
LOCATION:San Diego Bay Refuge\, 501 Florence St\, Imperial Beach\, CA\, 91932\, United States
CATEGORIES:Birding and Biking
ATTACH;FMTTYPE=image/jpeg:https://oceanconnectors.org/wp-content/uploads/2021/08/Birding-and-Biking-Eco-Tour-Event-Photo-scaled.jpg
ORGANIZER;CN="Shailey Heller":MAILTO:shailey@oceanconnectors.org
END:VEVENT
BEGIN:VEVENT
DTSTART;TZID=UTC:20221105T093000
DTEND;TZID=UTC:20221105T110000
DTSTAMP:20260422T053333
CREATED:20210930T235251Z
LAST-MODIFIED:20221102T175540Z
UID:10000186-1667640600-1667646000@oceanconnectors.org
SUMMARY:Sea Lion and Harbor Eco Tour
DESCRIPTION:Be an Ocean Connector and join us on one of our Sea Lion and Harbor Eco Tours!\n\n\n\n \n\n\n\n\n\n \n 
URL:https://oceanconnectors.org/event/sea-lion-and-harbor-eco-tour-5/
LOCATION:San Diego Embarcadero\, 990 North Harbor Drive\, San Diego\, CA\, 92101\, United States
CATEGORIES:Sea Lion Harbor
ATTACH;FMTTYPE=image/jpeg:https://oceanconnectors.org/wp-content/uploads/2022/03/sea-lion-and-cub.jpg
ORGANIZER;CN="Shailey Heller":MAILTO:shailey@oceanconnectors.org
END:VEVENT
BEGIN:VEVENT
DTSTART;TZID=UTC:20221112T090000
DTEND;TZID=UTC:20221112T120000
DTSTAMP:20260422T053333
CREATED:20210814T033931Z
LAST-MODIFIED:20220806T012258Z
UID:10000160-1668243600-1668254400@oceanconnectors.org
SUMMARY:Wildlife Kayaking Eco Tour
DESCRIPTION:Be an Ocean Connector and join us on one of our Wildlife Kayaking adventures!\n\n\n\n \n\n\n\n\n\n \n 
URL:https://oceanconnectors.org/event/wildlife-kayaking-eco-tour-12/
LOCATION:Bayside Park\, 999 Bayside Pkwy\, Chula Vista\, 91910
CATEGORIES:Wildlife Kayaking
ATTACH;FMTTYPE=image/jpeg:https://oceanconnectors.org/wp-content/uploads/2021/08/Wildlife-Kayaking-Eco-Tour-Event-Photo_small-scaled.jpg
ORGANIZER;CN="Shailey Heller":MAILTO:shailey@oceanconnectors.org
END:VEVENT
BEGIN:VEVENT
DTSTART;TZID=UTC:20221210T090000
DTEND;TZID=UTC:20221210T120000
DTSTAMP:20260422T053333
CREATED:20210814T033931Z
LAST-MODIFIED:20221207T170432Z
UID:10000161-1670662800-1670673600@oceanconnectors.org
SUMMARY:Wildlife Kayaking Eco Tour
DESCRIPTION:Be an Ocean Connector and join us on one of our Wildlife Kayaking adventures!\n\n\n\n \n\n\n\n\n\n \n 
URL:https://oceanconnectors.org/event/wildlife-kayaking-eco-tour-13/
LOCATION:Bayside Park\, 999 Bayside Pkwy\, Chula Vista\, 91910
CATEGORIES:Wildlife Kayaking
ATTACH;FMTTYPE=image/jpeg:https://oceanconnectors.org/wp-content/uploads/2021/08/Wildlife-Kayaking-Eco-Tour-Event-Photo_small-scaled.jpg
ORGANIZER;CN="Shailey Heller":MAILTO:shailey@oceanconnectors.org
END:VEVENT
END:VCALENDAR