BEGIN:VCALENDAR
VERSION:2.0
PRODID:-//Ocean Connectors - ECPv6.15.18//NONSGML v1.0//EN
CALSCALE:GREGORIAN
METHOD:PUBLISH
X-WR-CALNAME:Ocean Connectors
X-ORIGINAL-URL:https://oceanconnectors.org
X-WR-CALDESC:Events for Ocean Connectors
REFRESH-INTERVAL;VALUE=DURATION:PT1H
X-Robots-Tag:noindex
X-PUBLISHED-TTL:PT1H
BEGIN:VTIMEZONE
TZID:America/Los_Angeles
BEGIN:DAYLIGHT
TZOFFSETFROM:-0800
TZOFFSETTO:-0700
TZNAME:PDT
DTSTART:20220313T100000
END:DAYLIGHT
BEGIN:STANDARD
TZOFFSETFROM:-0700
TZOFFSETTO:-0800
TZNAME:PST
DTSTART:20221106T090000
END:STANDARD
BEGIN:DAYLIGHT
TZOFFSETFROM:-0800
TZOFFSETTO:-0700
TZNAME:PDT
DTSTART:20230312T100000
END:DAYLIGHT
BEGIN:STANDARD
TZOFFSETFROM:-0700
TZOFFSETTO:-0800
TZNAME:PST
DTSTART:20231105T090000
END:STANDARD
BEGIN:DAYLIGHT
TZOFFSETFROM:-0800
TZOFFSETTO:-0700
TZNAME:PDT
DTSTART:20240310T100000
END:DAYLIGHT
BEGIN:STANDARD
TZOFFSETFROM:-0700
TZOFFSETTO:-0800
TZNAME:PST
DTSTART:20241103T090000
END:STANDARD
END:VTIMEZONE
BEGIN:VTIMEZONE
TZID:UTC
BEGIN:STANDARD
TZOFFSETFROM:+0000
TZOFFSETTO:+0000
TZNAME:UTC
DTSTART:20220101T000000
END:STANDARD
END:VTIMEZONE
BEGIN:VEVENT
DTSTART;TZID=America/Los_Angeles:20230824T090000
DTEND;TZID=America/Los_Angeles:20230824T110000
DTSTAMP:20260425T084747
CREATED:20230613T193305Z
LAST-MODIFIED:20230807T164323Z
UID:10000252-1692867600-1692874800@oceanconnectors.org
SUMMARY:Wildin' Mission Bay Kayak Eco Tour
DESCRIPTION:
URL:https://oceanconnectors.org/event/wildin-mission-bay-kayak-eco-tour-7/
LOCATION:Paradise Point\, Mission Bay\, 1404 Vacation Road\, San Diego\, CA\, 92109\, United States
CATEGORIES:Wildin' Mission Bay
ATTACH;FMTTYPE=image/jpeg:https://oceanconnectors.org/wp-content/uploads/2023/06/kayak3-e1687797669473.jpeg
ORGANIZER;CN="Shailey Heller":MAILTO:shailey@oceanconnectors.org
END:VEVENT
BEGIN:VEVENT
DTSTART;TZID=America/Los_Angeles:20230822T090000
DTEND;TZID=America/Los_Angeles:20230822T110000
DTSTAMP:20260425T084747
CREATED:20230613T193305Z
LAST-MODIFIED:20230629T002639Z
UID:10000251-1692694800-1692702000@oceanconnectors.org
SUMMARY:Wildin' Mission Bay Stand Up Paddle Board Eco Tour
DESCRIPTION:
URL:https://oceanconnectors.org/event/wildin-mission-bay-stand-up-paddle-board-eco-tour-6/
LOCATION:Paradise Point\, Mission Bay\, 1404 Vacation Road\, San Diego\, CA\, 92109\, United States
CATEGORIES:Wildin' Mission Bay
ATTACH;FMTTYPE=image/jpeg:https://oceanconnectors.org/wp-content/uploads/2023/06/image000004-e1687797332777.jpg
ORGANIZER;CN="Shailey Heller":MAILTO:shailey@oceanconnectors.org
END:VEVENT
BEGIN:VEVENT
DTSTART;TZID=America/Los_Angeles:20230817T090000
DTEND;TZID=America/Los_Angeles:20230817T110000
DTSTAMP:20260425T084747
CREATED:20230613T193305Z
LAST-MODIFIED:20230807T164148Z
UID:10000250-1692262800-1692270000@oceanconnectors.org
SUMMARY:Wildin' Mission Bay Kayak Eco Tour
DESCRIPTION:
URL:https://oceanconnectors.org/event/wildin-mission-bay-kayak-eco-tour-6/
LOCATION:Paradise Point\, Mission Bay\, 1404 Vacation Road\, San Diego\, CA\, 92109\, United States
CATEGORIES:Wildin' Mission Bay
ATTACH;FMTTYPE=image/jpeg:https://oceanconnectors.org/wp-content/uploads/2023/06/kayak3-e1687797669473.jpeg
ORGANIZER;CN="Shailey Heller":MAILTO:shailey@oceanconnectors.org
END:VEVENT
BEGIN:VEVENT
DTSTART;TZID=America/Los_Angeles:20230815T090000
DTEND;TZID=America/Los_Angeles:20230815T110000
DTSTAMP:20260425T084747
CREATED:20230613T193305Z
LAST-MODIFIED:20230629T002014Z
UID:10000249-1692090000-1692097200@oceanconnectors.org
SUMMARY:Wildin' Mission Bay Stand Up Paddle Board Eco Tour
DESCRIPTION:
URL:https://oceanconnectors.org/event/wildin-mission-bay-stand-up-paddle-board-eco-tour-5/
LOCATION:Paradise Point\, Mission Bay\, 1404 Vacation Road\, San Diego\, CA\, 92109\, United States
CATEGORIES:Wildin' Mission Bay
ATTACH;FMTTYPE=image/jpeg:https://oceanconnectors.org/wp-content/uploads/2023/06/image000004-e1687797332777.jpg
ORGANIZER;CN="Shailey Heller":MAILTO:shailey@oceanconnectors.org
END:VEVENT
BEGIN:VEVENT
DTSTART;TZID=America/Los_Angeles:20230812T090000
DTEND;TZID=America/Los_Angeles:20230812T120000
DTSTAMP:20260425T084747
CREATED:20210814T033931Z
LAST-MODIFIED:20230803T215410Z
UID:10000209-1691830800-1691841600@oceanconnectors.org
SUMMARY:Wildlife Kayaking Eco Tour
DESCRIPTION:Be an Ocean Connector and join us on one of our Wildlife Kayaking adventures!\n\n\n\n \n\n\n\n\n\n \n 
URL:https://oceanconnectors.org/event/wildlife-kayaking-eco-tour-33/
LOCATION:Bayside Park\, 999 Bayside Pkwy\, Chula Vista\, 91910
CATEGORIES:Wildlife Kayaking
ATTACH;FMTTYPE=image/jpeg:https://oceanconnectors.org/wp-content/uploads/2021/08/Wildlife-Kayaking-Eco-Tour-Event-Photo_small-scaled.jpg
ORGANIZER;CN="Shailey Heller":MAILTO:shailey@oceanconnectors.org
END:VEVENT
BEGIN:VEVENT
DTSTART;TZID=America/Los_Angeles:20230810T090000
DTEND;TZID=America/Los_Angeles:20230810T110000
DTSTAMP:20260425T084747
CREATED:20230613T193305Z
LAST-MODIFIED:20230629T001655Z
UID:10000248-1691658000-1691665200@oceanconnectors.org
SUMMARY:Wildin' Mission Bay Kayak Eco Tour
DESCRIPTION:
URL:https://oceanconnectors.org/event/wildin-mission-bay-kayak-eco-tour-5/
LOCATION:Paradise Point\, Mission Bay\, 1404 Vacation Road\, San Diego\, CA\, 92109\, United States
CATEGORIES:Wildin' Mission Bay
ATTACH;FMTTYPE=image/jpeg:https://oceanconnectors.org/wp-content/uploads/2023/06/kayak3-e1687797669473.jpeg
ORGANIZER;CN="Shailey Heller":MAILTO:shailey@oceanconnectors.org
END:VEVENT
BEGIN:VEVENT
DTSTART;TZID=America/Los_Angeles:20230808T090000
DTEND;TZID=America/Los_Angeles:20230808T110000
DTSTAMP:20260425T084747
CREATED:20230613T193305Z
LAST-MODIFIED:20230628T232149Z
UID:10000247-1691485200-1691492400@oceanconnectors.org
SUMMARY:Wildin' Mission Bay Stand Up Paddle Board Eco Tour
DESCRIPTION:
URL:https://oceanconnectors.org/event/wildin-mission-bay-stand-up-paddle-board-eco-tour-4/
LOCATION:Paradise Point\, Mission Bay\, 1404 Vacation Road\, San Diego\, CA\, 92109\, United States
CATEGORIES:Wildin' Mission Bay
ATTACH;FMTTYPE=image/jpeg:https://oceanconnectors.org/wp-content/uploads/2023/06/image000004-e1687797332777.jpg
ORGANIZER;CN="Shailey Heller":MAILTO:shailey@oceanconnectors.org
END:VEVENT
BEGIN:VEVENT
DTSTART;TZID=America/Los_Angeles:20230805T090000
DTEND;TZID=America/Los_Angeles:20230805T120000
DTSTAMP:20260425T084747
CREATED:20210814T033931Z
LAST-MODIFIED:20230622T043455Z
UID:10000208-1691226000-1691236800@oceanconnectors.org
SUMMARY:Wildlife Kayaking Eco Tour
DESCRIPTION:Be an Ocean Connector and join us on one of our Wildlife Kayaking adventures!\n\n\n\n \n\n\n\n\n\n \n 
URL:https://oceanconnectors.org/event/wildlife-kayaking-eco-tour-32/
LOCATION:Bayside Park\, 999 Bayside Pkwy\, Chula Vista\, 91910
CATEGORIES:Wildlife Kayaking
ATTACH;FMTTYPE=image/jpeg:https://oceanconnectors.org/wp-content/uploads/2021/08/Wildlife-Kayaking-Eco-Tour-Event-Photo_small-scaled.jpg
ORGANIZER;CN="Shailey Heller":MAILTO:shailey@oceanconnectors.org
END:VEVENT
BEGIN:VEVENT
DTSTART;TZID=America/Los_Angeles:20230803T090000
DTEND;TZID=America/Los_Angeles:20230803T110000
DTSTAMP:20260425T084747
CREATED:20230613T193305Z
LAST-MODIFIED:20230629T001137Z
UID:10000246-1691053200-1691060400@oceanconnectors.org
SUMMARY:Wildin' Mission Bay Kayak Eco Tour
DESCRIPTION:
URL:https://oceanconnectors.org/event/wildin-mission-bay-kayak-eco-tour-4/
LOCATION:Paradise Point\, Mission Bay\, 1404 Vacation Road\, San Diego\, CA\, 92109\, United States
CATEGORIES:Wildin' Mission Bay
ATTACH;FMTTYPE=image/jpeg:https://oceanconnectors.org/wp-content/uploads/2023/06/kayak3-e1687797669473.jpeg
ORGANIZER;CN="Shailey Heller":MAILTO:shailey@oceanconnectors.org
END:VEVENT
BEGIN:VEVENT
DTSTART;TZID=America/Los_Angeles:20230801T090000
DTEND;TZID=America/Los_Angeles:20230801T110000
DTSTAMP:20260425T084747
CREATED:20230613T193305Z
LAST-MODIFIED:20230628T230417Z
UID:10000245-1690880400-1690887600@oceanconnectors.org
SUMMARY:Wildin' Mission Bay Stand Up Paddle Board Eco Tour
DESCRIPTION:
URL:https://oceanconnectors.org/event/wildin-mission-bay-stand-up-paddle-board-eco-tour-3/
LOCATION:Paradise Point\, Mission Bay\, 1404 Vacation Road\, San Diego\, CA\, 92109\, United States
CATEGORIES:Wildin' Mission Bay
ATTACH;FMTTYPE=image/jpeg:https://oceanconnectors.org/wp-content/uploads/2023/06/image000004-e1687797332777.jpg
ORGANIZER;CN="Shailey Heller":MAILTO:shailey@oceanconnectors.org
END:VEVENT
BEGIN:VEVENT
DTSTART;TZID=America/Los_Angeles:20230729T090000
DTEND;TZID=America/Los_Angeles:20230729T120000
DTSTAMP:20260425T084747
CREATED:20210814T033931Z
LAST-MODIFIED:20230622T043338Z
UID:10000207-1690621200-1690632000@oceanconnectors.org
SUMMARY:Wildlife Kayaking Eco Tour
DESCRIPTION:Be an Ocean Connector and join us on one of our Wildlife Kayaking adventures!\n\n\n\n \n\n\n\n\n\n \n 
URL:https://oceanconnectors.org/event/wildlife-kayaking-eco-tour-31/
LOCATION:Bayside Park\, 999 Bayside Pkwy\, Chula Vista\, 91910
CATEGORIES:Wildlife Kayaking
ATTACH;FMTTYPE=image/jpeg:https://oceanconnectors.org/wp-content/uploads/2021/08/Wildlife-Kayaking-Eco-Tour-Event-Photo_small-scaled.jpg
ORGANIZER;CN="Shailey Heller":MAILTO:shailey@oceanconnectors.org
END:VEVENT
BEGIN:VEVENT
DTSTART;TZID=America/Los_Angeles:20230725T090000
DTEND;TZID=America/Los_Angeles:20230725T110000
DTSTAMP:20260425T084747
CREATED:20230613T193305Z
LAST-MODIFIED:20230628T224419Z
UID:10000242-1690275600-1690282800@oceanconnectors.org
SUMMARY:Wildin' Mission Bay Stand Up Paddle Board Eco Tour
DESCRIPTION:
URL:https://oceanconnectors.org/event/wildin-mission-bay-stand-up-paddle-board-eco-tour-2/
LOCATION:Paradise Point\, Mission Bay\, 1404 Vacation Road\, San Diego\, CA\, 92109\, United States
CATEGORIES:Wildin' Mission Bay
ATTACH;FMTTYPE=image/jpeg:https://oceanconnectors.org/wp-content/uploads/2023/06/image000004-e1687797332777.jpg
ORGANIZER;CN="Shailey Heller":MAILTO:shailey@oceanconnectors.org
END:VEVENT
BEGIN:VEVENT
DTSTART;TZID=America/Los_Angeles:20230721T130000
DTEND;TZID=America/Los_Angeles:20230721T160000
DTSTAMP:20260425T084747
CREATED:20230628T220822Z
LAST-MODIFIED:20230703T155522Z
UID:10000239-1689944400-1689955200@oceanconnectors.org
SUMMARY:Birding & Brews - Deluxe Edition
DESCRIPTION:For the eco tourist that wants all of the adventure! Start with a coffee tasting\, belly-up at Trident’s coffee bar. Enjoy a Rad Powerbike ride and guided tour\, and finish the day with with a brew at Novo. Birds\, Bikes\, and local Brews – it doesn’t get better than this!
URL:https://oceanconnectors.org/event/birding-brews-deluxe-edition-2-2/
LOCATION:San Diego Bay Refuge\, 501 Florence St\, Imperial Beach\, CA\, 91932\, United States
CATEGORIES:Birds and Brews
ATTACH;FMTTYPE=image/jpeg:https://oceanconnectors.org/wp-content/uploads/2023/06/ECO-TOURS-MONTHLY-2240-×-1000-px-1.jpg
ORGANIZER;CN="Shailey Heller":MAILTO:shailey@oceanconnectors.org
END:VEVENT
BEGIN:VEVENT
DTSTART;TZID=America/Los_Angeles:20230720T090000
DTEND;TZID=America/Los_Angeles:20230720T110000
DTSTAMP:20260425T084747
CREATED:20230613T193305Z
LAST-MODIFIED:20230628T164213Z
UID:10000241-1689843600-1689850800@oceanconnectors.org
SUMMARY:Wildin' Mission Bay Kayak Eco Tour
DESCRIPTION:
URL:https://oceanconnectors.org/event/wildin-mission-bay-kayak-eco-tour-2/
LOCATION:Paradise Point\, Mission Bay\, 1404 Vacation Road\, San Diego\, CA\, 92109\, United States
CATEGORIES:Wildin' Mission Bay
ATTACH;FMTTYPE=image/jpeg:https://oceanconnectors.org/wp-content/uploads/2023/06/kayak3-e1687797669473.jpeg
ORGANIZER;CN="Shailey Heller":MAILTO:shailey@oceanconnectors.org
END:VEVENT
BEGIN:VEVENT
DTSTART;TZID=America/Los_Angeles:20230718T090000
DTEND;TZID=America/Los_Angeles:20230718T110000
DTSTAMP:20260425T084747
CREATED:20230613T193305Z
LAST-MODIFIED:20230628T164352Z
UID:10000240-1689670800-1689678000@oceanconnectors.org
SUMMARY:Wildlin' Mission Bay Stand Up Paddle Board Eco Tour
DESCRIPTION:
URL:https://oceanconnectors.org/event/mission-bay-stand-up-paddle-board-eco-tour/
LOCATION:Paradise Point\, Mission Bay\, 1404 Vacation Road\, San Diego\, CA\, 92109\, United States
CATEGORIES:Wildin' Mission Bay
ATTACH;FMTTYPE=image/jpeg:https://oceanconnectors.org/wp-content/uploads/2023/06/image000004-e1687797332777.jpg
ORGANIZER;CN="Shailey Heller":MAILTO:shailey@oceanconnectors.org
END:VEVENT
BEGIN:VEVENT
DTSTART;TZID=America/Los_Angeles:20230711T090000
DTEND;TZID=America/Los_Angeles:20230711T110000
DTSTAMP:20260425T084747
CREATED:20230613T193305Z
LAST-MODIFIED:20230628T163625Z
UID:10000236-1689066000-1689073200@oceanconnectors.org
SUMMARY:Wildin' Mission Bay Kayak Eco Tour
DESCRIPTION:
URL:https://oceanconnectors.org/event/wildin-mission-bay-kayak-eco-tour/
LOCATION:Paradise Point\, Mission Bay\, 1404 Vacation Road\, San Diego\, CA\, 92109\, United States
CATEGORIES:Wildin' Mission Bay
ATTACH;FMTTYPE=image/jpeg:https://oceanconnectors.org/wp-content/uploads/2023/06/kayak3-e1687797669473.jpeg
ORGANIZER;CN="Shailey Heller":MAILTO:shailey@oceanconnectors.org
END:VEVENT
BEGIN:VEVENT
DTSTART;TZID=America/Los_Angeles:20230708T090000
DTEND;TZID=America/Los_Angeles:20230708T120000
DTSTAMP:20260425T084747
CREATED:20210814T033931Z
LAST-MODIFIED:20230622T043116Z
UID:10000204-1688806800-1688817600@oceanconnectors.org
SUMMARY:Wildlife Kayaking Eco Tour
DESCRIPTION:Be an Ocean Connector and join us on one of our Wildlife Kayaking adventures!\n\n\n\n \n\n\n\n\n\n \n 
URL:https://oceanconnectors.org/event/wildlife-kayaking-eco-tour-29/
LOCATION:Bayside Park\, 999 Bayside Pkwy\, Chula Vista\, 91910
CATEGORIES:Wildlife Kayaking
ATTACH;FMTTYPE=image/jpeg:https://oceanconnectors.org/wp-content/uploads/2021/08/Wildlife-Kayaking-Eco-Tour-Event-Photo_small-scaled.jpg
ORGANIZER;CN="Shailey Heller":MAILTO:shailey@oceanconnectors.org
END:VEVENT
BEGIN:VEVENT
DTSTART;TZID=America/Los_Angeles:20230706T090000
DTEND;TZID=America/Los_Angeles:20230706T110000
DTSTAMP:20260425T084747
CREATED:20230613T193305Z
LAST-MODIFIED:20230628T164309Z
UID:10000237-1688634000-1688641200@oceanconnectors.org
SUMMARY:Wildin' Mission Bay Stand Up Paddle Board Eco Tour
DESCRIPTION:
URL:https://oceanconnectors.org/event/wildin-mission-bay-stand-up-paddle-board-eco-tour/
LOCATION:Paradise Point\, Mission Bay\, 1404 Vacation Road\, San Diego\, CA\, 92109\, United States
CATEGORIES:Wildin' Mission Bay
ATTACH;FMTTYPE=image/jpeg:https://oceanconnectors.org/wp-content/uploads/2023/06/image000004-e1687797332777.jpg
ORGANIZER;CN="Shailey Heller":MAILTO:shailey@oceanconnectors.org
END:VEVENT
BEGIN:VEVENT
DTSTART;TZID=America/Los_Angeles:20230630T130000
DTEND;TZID=America/Los_Angeles:20230630T160000
DTSTAMP:20260425T084747
CREATED:20230627T235427Z
LAST-MODIFIED:20230628T221315Z
UID:10000238-1688130000-1688140800@oceanconnectors.org
SUMMARY:Birding & Brews - Deluxe Edition
DESCRIPTION:For the eco tourist that wants all of the adventure! Start with a coffee tasting\, belly-up at Trident’s coffee bar. Enjoy a Rad Powerbike ride and guided tour\, and finish the day with with a brew at Novo. Birds\, Bikes\, and local Brews – it doesn’t get better than this!
URL:https://oceanconnectors.org/event/birding-brews-deluxe-edition-3/
LOCATION:San Diego Bay Refuge\, 501 Florence St\, Imperial Beach\, CA\, 91932\, United States
CATEGORIES:Birds and Brews
ATTACH;FMTTYPE=image/png:https://oceanconnectors.org/wp-content/uploads/2023/05/ECO-TOURS-MONTHLY-2240-×-1000-px.png
ORGANIZER;CN="Shailey Heller":MAILTO:shailey@oceanconnectors.org
END:VEVENT
BEGIN:VEVENT
DTSTART;TZID=America/Los_Angeles:20230617T090000
DTEND;TZID=America/Los_Angeles:20230617T120000
DTSTAMP:20260425T084747
CREATED:20210814T033931Z
LAST-MODIFIED:20230615T223943Z
UID:10000203-1686992400-1687003200@oceanconnectors.org
SUMMARY:Wildlife Kayaking Eco Tour
DESCRIPTION:Be an Ocean Connector and join us on one of our Wildlife Kayaking adventures!\n\n\n\n \n\n\n\n\n\n \n 
URL:https://oceanconnectors.org/event/wildlife-kayaking-eco-tour-28/
LOCATION:Bayside Park\, 999 Bayside Pkwy\, Chula Vista\, 91910
CATEGORIES:Wildlife Kayaking
ATTACH;FMTTYPE=image/jpeg:https://oceanconnectors.org/wp-content/uploads/2021/08/Wildlife-Kayaking-Eco-Tour-Event-Photo_small-scaled.jpg
ORGANIZER;CN="Shailey Heller":MAILTO:shailey@oceanconnectors.org
END:VEVENT
BEGIN:VEVENT
DTSTART;TZID=America/Los_Angeles:20230610T090000
DTEND;TZID=America/Los_Angeles:20230610T110000
DTSTAMP:20260425T084747
CREATED:20230607T195231Z
LAST-MODIFIED:20230607T195233Z
UID:10000234-1686387600-1686394800@oceanconnectors.org
SUMMARY:Tidepool Exploration
DESCRIPTION:
URL:https://oceanconnectors.org/event/tidepool-exploration-3-2/
LOCATION:Top Secret Location\, CA\, United States
CATEGORIES:Tidepooling
ATTACH;FMTTYPE=image/jpeg:https://oceanconnectors.org/wp-content/uploads/2023/04/PXL_20230320_225516269-1-scaled-e1684861970446.jpg
ORGANIZER;CN="Shailey Heller":MAILTO:shailey@oceanconnectors.org
END:VEVENT
BEGIN:VEVENT
DTSTART;TZID=America/Los_Angeles:20230603T120000
DTEND;TZID=America/Los_Angeles:20230603T153000
DTSTAMP:20260425T084747
CREATED:20230512T173712Z
LAST-MODIFIED:20230518T172443Z
UID:10000231-1685793600-1685806200@oceanconnectors.org
SUMMARY:Birding\, (e-Biking)\, & Brews - Deluxe Edition
DESCRIPTION:For the eco tourist that wants all of the adventure! Start with a coffee tasting\, belly-up at Trident’s coffee bar. Enjoy a Rad Powerbike ride and guided tour\, and finish the day with with a brew at Novo. Birds\, Bikes\, and local Brews – it doesn’t get better than this!
URL:https://oceanconnectors.org/event/birding-e-biking-brews-deluxe-edition/
LOCATION:San Diego Bay Refuge\, 501 Florence St\, Imperial Beach\, CA\, 91932\, United States
CATEGORIES:Birds and Brews
ATTACH;FMTTYPE=image/png:https://oceanconnectors.org/wp-content/uploads/2023/05/ECO-TOURS-MONTHLY-2240-×-1000-px.png
ORGANIZER;CN="Shailey Heller":MAILTO:shailey@oceanconnectors.org
END:VEVENT
BEGIN:VEVENT
DTSTART;TZID=America/Los_Angeles:20230521T130000
DTEND;TZID=America/Los_Angeles:20230521T150000
DTSTAMP:20260425T084747
CREATED:20230512T173712Z
LAST-MODIFIED:20230518T170013Z
UID:10000230-1684674000-1684681200@oceanconnectors.org
SUMMARY:Birding\, (e-Biking)\, & Brews - Happy Hour Edition
DESCRIPTION:Take a guided e-bike ride down Imperial Bikeway\, and make a few stops along the way to learn about the local ecosystem. Then sit back and relax with a beer or kombucha and experience Novo Brewing’s  “fun by nature” sustainability focus with a stunning waterfront view.
URL:https://oceanconnectors.org/event/birding-e-biking-brews-happy-hour-edition/
LOCATION:San Diego Bay Refuge\, 501 Florence St\, Imperial Beach\, CA\, 91932\, United States
CATEGORIES:Birds and Brews
ATTACH;FMTTYPE=image/jpeg:https://oceanconnectors.org/wp-content/uploads/2023/05/bbb2-scaled-e1684429945130.jpeg
ORGANIZER;CN="Shailey Heller":MAILTO:shailey@oceanconnectors.org
END:VEVENT
BEGIN:VEVENT
DTSTART;TZID=America/Los_Angeles:20230516T080000
DTEND;TZID=America/Los_Angeles:20230516T170000
DTSTAMP:20260425T084747
CREATED:20230514T075131Z
LAST-MODIFIED:20230515T032420Z
UID:10000233-1684224000-1684256400@oceanconnectors.org
SUMMARY:Nature Walk
DESCRIPTION:
URL:https://oceanconnectors.org/event/nature-walk/
LOCATION:Top Secret Location\, CA\, United States
CATEGORIES:Nature Walks
ORGANIZER;CN="Shailey Heller":MAILTO:shailey@oceanconnectors.org
END:VEVENT
BEGIN:VEVENT
DTSTART;TZID=America/Los_Angeles:20230514T110000
DTEND;TZID=America/Los_Angeles:20230514T130000
DTSTAMP:20260425T084747
CREATED:20230419T213935Z
LAST-MODIFIED:20230427T182659Z
UID:10000229-1684062000-1684069200@oceanconnectors.org
SUMMARY:Tidepool Exploration
DESCRIPTION:
URL:https://oceanconnectors.org/event/tidepool-exploration-2/
LOCATION:Top Secret Location\, CA\, United States
CATEGORIES:Tidepooling
ATTACH;FMTTYPE=image/jpeg:https://oceanconnectors.org/wp-content/uploads/2023/04/PXL_20230320_225516269-1-scaled-e1684861970446.jpg
ORGANIZER;CN="Shailey Heller":MAILTO:shailey@oceanconnectors.org
END:VEVENT
BEGIN:VEVENT
DTSTART;TZID=America/Los_Angeles:20230513T103000
DTEND;TZID=America/Los_Angeles:20230513T123000
DTSTAMP:20260425T084747
CREATED:20230419T213935Z
LAST-MODIFIED:20230426T223045Z
UID:10000228-1683973800-1683981000@oceanconnectors.org
SUMMARY:Tidepool Exploration
DESCRIPTION:
URL:https://oceanconnectors.org/event/tidepool-exploration/
LOCATION:Top Secret Location\, CA\, United States
CATEGORIES:Tidepooling
ATTACH;FMTTYPE=image/jpeg:https://oceanconnectors.org/wp-content/uploads/2023/04/PXL_20230320_225516269-1-scaled-e1684861970446.jpg
ORGANIZER;CN="Shailey Heller":MAILTO:shailey@oceanconnectors.org
END:VEVENT
BEGIN:VEVENT
DTSTART;TZID=UTC:20230513T090000
DTEND;TZID=UTC:20230513T120000
DTSTAMP:20260425T084747
CREATED:20210814T033931Z
LAST-MODIFIED:20230417T212449Z
UID:10000199-1683968400-1683979200@oceanconnectors.org
SUMMARY:Wildlife Kayaking Eco Tour
DESCRIPTION:Be an Ocean Connector and join us on one of our Wildlife Kayaking adventures!\n\n\n\n \n\n\n\n\n\n \n 
URL:https://oceanconnectors.org/event/wildlife-kayaking-eco-tour-26/
LOCATION:Bayside Park\, 999 Bayside Pkwy\, Chula Vista\, 91910
CATEGORIES:Wildlife Kayaking
ATTACH;FMTTYPE=image/jpeg:https://oceanconnectors.org/wp-content/uploads/2021/08/Wildlife-Kayaking-Eco-Tour-Event-Photo_small-scaled.jpg
ORGANIZER;CN="Shailey Heller":MAILTO:shailey@oceanconnectors.org
END:VEVENT
BEGIN:VEVENT
DTSTART;TZID=America/Los_Angeles:20230506T090000
DTEND;TZID=America/Los_Angeles:20230506T120000
DTSTAMP:20260425T084747
CREATED:20210814T033931Z
LAST-MODIFIED:20230514T003023Z
UID:10000198-1683363600-1683374400@oceanconnectors.org
SUMMARY:Wildlife Kayaking Eco Tour
DESCRIPTION:Be an Ocean Connector and join us on one of our Wildlife Kayaking adventures!\n\n\n\n \n\n\n\n\n\n \n 
URL:https://oceanconnectors.org/event/wildlife-kayaking-eco-tour-25/
LOCATION:Bayside Park\, 999 Bayside Pkwy\, Chula Vista\, 91910
CATEGORIES:Wildlife Kayaking
ATTACH;FMTTYPE=image/jpeg:https://oceanconnectors.org/wp-content/uploads/2021/08/Wildlife-Kayaking-Eco-Tour-Event-Photo_small-scaled.jpg
ORGANIZER;CN="Shailey Heller":MAILTO:shailey@oceanconnectors.org
END:VEVENT
BEGIN:VEVENT
DTSTART;TZID=UTC:20230415T090000
DTEND;TZID=UTC:20230415T120000
DTSTAMP:20260425T084747
CREATED:20210814T033931Z
LAST-MODIFIED:20221020T235829Z
UID:10000196-1681549200-1681560000@oceanconnectors.org
SUMMARY:Wildlife Kayaking Eco Tour
DESCRIPTION:Be an Ocean Connector and join us on one of our Wildlife Kayaking adventures!\n\n\n\n \n\n\n\n\n\n \n 
URL:https://oceanconnectors.org/event/wildlife-kayaking-eco-tour-24/
LOCATION:Bayside Park\, 999 Bayside Pkwy\, Chula Vista\, 91910
CATEGORIES:Wildlife Kayaking
ATTACH;FMTTYPE=image/jpeg:https://oceanconnectors.org/wp-content/uploads/2021/08/Wildlife-Kayaking-Eco-Tour-Event-Photo_small-scaled.jpg
ORGANIZER;CN="Shailey Heller":MAILTO:shailey@oceanconnectors.org
END:VEVENT
BEGIN:VEVENT
DTSTART;TZID=UTC:20230325T090000
DTEND;TZID=UTC:20230325T120000
DTSTAMP:20260425T084747
CREATED:20210814T033931Z
LAST-MODIFIED:20221019T161913Z
UID:10000194-1679734800-1679745600@oceanconnectors.org
SUMMARY:Wildlife Kayaking Eco Tour
DESCRIPTION:Be an Ocean Connector and join us on one of our Wildlife Kayaking adventures!\n\n\n\n \n\n\n\n\n\n \n 
URL:https://oceanconnectors.org/event/wildlife-kayaking-eco-tour-23/
LOCATION:Bayside Park\, 999 Bayside Pkwy\, Chula Vista\, 91910
CATEGORIES:Wildlife Kayaking
ATTACH;FMTTYPE=image/jpeg:https://oceanconnectors.org/wp-content/uploads/2021/08/Wildlife-Kayaking-Eco-Tour-Event-Photo_small-scaled.jpg
ORGANIZER;CN="Shailey Heller":MAILTO:shailey@oceanconnectors.org
END:VEVENT
END:VCALENDAR