BEGIN:VCALENDAR
VERSION:2.0
PRODID:-//Ocean Connectors - ECPv6.15.18//NONSGML v1.0//EN
CALSCALE:GREGORIAN
METHOD:PUBLISH
X-WR-CALNAME:Ocean Connectors
X-ORIGINAL-URL:https://oceanconnectors.org
X-WR-CALDESC:Events for Ocean Connectors
REFRESH-INTERVAL;VALUE=DURATION:PT1H
X-Robots-Tag:noindex
X-PUBLISHED-TTL:PT1H
BEGIN:VTIMEZONE
TZID:America/Los_Angeles
BEGIN:DAYLIGHT
TZOFFSETFROM:-0800
TZOFFSETTO:-0700
TZNAME:PDT
DTSTART:20230312T100000
END:DAYLIGHT
BEGIN:STANDARD
TZOFFSETFROM:-0700
TZOFFSETTO:-0800
TZNAME:PST
DTSTART:20231105T090000
END:STANDARD
BEGIN:DAYLIGHT
TZOFFSETFROM:-0800
TZOFFSETTO:-0700
TZNAME:PDT
DTSTART:20240310T100000
END:DAYLIGHT
BEGIN:STANDARD
TZOFFSETFROM:-0700
TZOFFSETTO:-0800
TZNAME:PST
DTSTART:20241103T090000
END:STANDARD
BEGIN:DAYLIGHT
TZOFFSETFROM:-0800
TZOFFSETTO:-0700
TZNAME:PDT
DTSTART:20250309T100000
END:DAYLIGHT
BEGIN:STANDARD
TZOFFSETFROM:-0700
TZOFFSETTO:-0800
TZNAME:PST
DTSTART:20251102T090000
END:STANDARD
END:VTIMEZONE
BEGIN:VEVENT
DTSTART;TZID=America/Los_Angeles:20240506T080000
DTEND;TZID=America/Los_Angeles:20240506T103000
DTSTAMP:20260425T063109
CREATED:20240410T071552Z
LAST-MODIFIED:20240410T071552Z
UID:10000312-1714982400-1714991400@oceanconnectors.org
SUMMARY:Community Kayak Cleanup
DESCRIPTION:Be an Ocean Connector and join us on one of our Kayak Cleanups!\n\n\n\n \n\n\n\n\n\n \n 
URL:https://oceanconnectors.org/event/community-kayak-cleanup/
LOCATION:Pepper Park\, 3299 Tidelands Ave.\, National City\, CA\, 91950\, United States
CATEGORIES:Kayak Clean Up
ATTACH;FMTTYPE=image/jpeg:https://oceanconnectors.org/wp-content/uploads/2024/02/Kayak.Cleanup.Pilot_.010823.3-scaled.jpg
ORGANIZER;CN="Eco Tours":MAILTO:eco-tours@oceanconnectors.org
END:VEVENT
BEGIN:VEVENT
DTSTART;TZID=America/Los_Angeles:20240510T120000
DTEND;TZID=America/Los_Angeles:20240510T143000
DTSTAMP:20260425T063109
CREATED:20240410T072702Z
LAST-MODIFIED:20240410T072702Z
UID:10000313-1715342400-1715351400@oceanconnectors.org
SUMMARY:Community Kayak Cleanup
DESCRIPTION:Be an Ocean Connector and join us on one of our Kayak Cleanups!\n\n\n\n \n\n\n\n\n\n \n 
URL:https://oceanconnectors.org/event/community-kayak-cleanup-2/
LOCATION:Pepper Park\, 3299 Tidelands Ave.\, National City\, CA\, 91950\, United States
CATEGORIES:Kayak Clean Up
ATTACH;FMTTYPE=image/jpeg:https://oceanconnectors.org/wp-content/uploads/2024/02/Kayak.Cleanup.Pilot_.010823.3-scaled.jpg
ORGANIZER;CN="Eco Tours":MAILTO:eco-tours@oceanconnectors.org
END:VEVENT
BEGIN:VEVENT
DTSTART;TZID=America/Los_Angeles:20240511T090000
DTEND;TZID=America/Los_Angeles:20240511T120000
DTSTAMP:20260425T063109
CREATED:20231219T033640Z
LAST-MODIFIED:20240507T182618Z
UID:10000272-1715418000-1715428800@oceanconnectors.org
SUMMARY:Wildlife Kayaking Eco Tour
DESCRIPTION:Be an Ocean Connector and join us on one of our Wildlife Kayaking adventures!\n\n\n\n \n\n\n\n\n\n \n 
URL:https://oceanconnectors.org/event/wildlife-kayaking-eco-tour-45-2/
LOCATION:Bayside Park\, 999 Bayside Pkwy\, Chula Vista\, 91910
CATEGORIES:Wildlife Kayaking
ATTACH;FMTTYPE=image/jpeg:https://oceanconnectors.org/wp-content/uploads/2021/08/Wildlife-Kayaking-Eco-Tour-Event-Photo_small-scaled.jpg
ORGANIZER;CN="Eco Tours":MAILTO:eco-tours@oceanconnectors.org
END:VEVENT
BEGIN:VEVENT
DTSTART;TZID=America/Los_Angeles:20240518T090000
DTEND;TZID=America/Los_Angeles:20240518T120000
DTSTAMP:20260425T063109
CREATED:20231219T034158Z
LAST-MODIFIED:20240507T183318Z
UID:10000273-1716022800-1716033600@oceanconnectors.org
SUMMARY:Wildlife Kayaking Eco Tour
DESCRIPTION:Be an Ocean Connector and join us on one of our Wildlife Kayaking adventures!\n\n\n\n \n\n\n\n\n\n \n 
URL:https://oceanconnectors.org/event/wildlife-kayaking-eco-tour-46-2/
LOCATION:Bayside Park\, 999 Bayside Pkwy\, Chula Vista\, 91910
CATEGORIES:Wildlife Kayaking
ATTACH;FMTTYPE=image/jpeg:https://oceanconnectors.org/wp-content/uploads/2021/08/Wildlife-Kayaking-Eco-Tour-Event-Photo_small-scaled.jpg
ORGANIZER;CN="Eco Tours":MAILTO:eco-tours@oceanconnectors.org
END:VEVENT
BEGIN:VEVENT
DTSTART;TZID=America/Los_Angeles:20240520T080000
DTEND;TZID=America/Los_Angeles:20240520T103000
DTSTAMP:20260425T063109
CREATED:20240410T073708Z
LAST-MODIFIED:20240502T180051Z
UID:10000314-1716192000-1716201000@oceanconnectors.org
SUMMARY:Community Kayak Cleanup
DESCRIPTION:Be an Ocean Connector and join us on one of our Kayak Cleanups!\n\n\n\n \n\n\n\n\n\n \n 
URL:https://oceanconnectors.org/event/community-kayak-cleanup-3/
LOCATION:Chula Vista Bayfront Park\, 980 Marina Way\, Chula Vista\, CA\, 91910\, United States
CATEGORIES:Kayak Clean Up
ATTACH;FMTTYPE=image/jpeg:https://oceanconnectors.org/wp-content/uploads/2024/04/Kayak-Cleanup-2_11-2-3-scaled.jpg
ORGANIZER;CN="Eco Tours":MAILTO:eco-tours@oceanconnectors.org
END:VEVENT
BEGIN:VEVENT
DTSTART;TZID=America/Los_Angeles:20240522T090000
DTEND;TZID=America/Los_Angeles:20240522T113000
DTSTAMP:20260425T063109
CREATED:20240413T001353Z
LAST-MODIFIED:20240502T180829Z
UID:10000316-1716368400-1716377400@oceanconnectors.org
SUMMARY:Community Kayak Cleanup
DESCRIPTION:Be an Ocean Connector and join us on one of our Kayak Cleanups!\n\n\n\n \n\n\n\n\n\n \n 
URL:https://oceanconnectors.org/event/community-kayak-cleanup-5/
LOCATION:Chula Vista Bayfront Park\, 980 Marina Way\, Chula Vista\, CA\, 91910\, United States
CATEGORIES:Kayak Clean Up
ATTACH;FMTTYPE=image/jpeg:https://oceanconnectors.org/wp-content/uploads/2024/04/Kayak-Cleanup-2_11-2-3-scaled.jpg
ORGANIZER;CN="Eco Tours":MAILTO:eco-tours@oceanconnectors.org
END:VEVENT
BEGIN:VEVENT
DTSTART;TZID=America/Los_Angeles:20240523T100000
DTEND;TZID=America/Los_Angeles:20240523T123000
DTSTAMP:20260425T063109
CREATED:20240413T034752Z
LAST-MODIFIED:20240413T034752Z
UID:10000317-1716458400-1716467400@oceanconnectors.org
SUMMARY:Community Kayak Cleanup
DESCRIPTION:Be an Ocean Connector and join us on one of our Kayak Cleanups!\n\n\n\n \n\n\n\n\n\n \n 
URL:https://oceanconnectors.org/event/community-kayak-cleanup-6/
LOCATION:Pepper Park\, 3299 Tidelands Ave.\, National City\, CA\, 91950\, United States
CATEGORIES:Kayak Clean Up
ATTACH;FMTTYPE=image/jpeg:https://oceanconnectors.org/wp-content/uploads/2024/02/Untitled-design.jpg
ORGANIZER;CN="Eco Tours":MAILTO:eco-tours@oceanconnectors.org
END:VEVENT
BEGIN:VEVENT
DTSTART;TZID=America/Los_Angeles:20240524T103000
DTEND;TZID=America/Los_Angeles:20240524T130000
DTSTAMP:20260425T063109
CREATED:20240413T035333Z
LAST-MODIFIED:20240502T181101Z
UID:10000318-1716546600-1716555600@oceanconnectors.org
SUMMARY:Community Kayak Cleanup
DESCRIPTION:Be an Ocean Connector and join us on one of our Kayak Cleanups!\n\n\n\n \n\n\n\n\n\n \n 
URL:https://oceanconnectors.org/event/community-kayak-cleanup-7/
LOCATION:Chula Vista Bayfront Park\, 980 Marina Way\, Chula Vista\, CA\, 91910\, United States
CATEGORIES:Kayak Clean Up
ATTACH;FMTTYPE=image/jpeg:https://oceanconnectors.org/wp-content/uploads/2024/02/Untitled-design.jpg
ORGANIZER;CN="Eco Tours":MAILTO:eco-tours@oceanconnectors.org
END:VEVENT
BEGIN:VEVENT
DTSTART;TZID=America/Los_Angeles:20240528T070000
DTEND;TZID=America/Los_Angeles:20240528T090000
DTSTAMP:20260425T063109
CREATED:20240429T193532Z
LAST-MODIFIED:20240502T173159Z
UID:10000325-1716879600-1716886800@oceanconnectors.org
SUMMARY:Sunrise Tidepool Exploration
DESCRIPTION:Be an Ocean Connector and explore San Diego’s diverse intertidal zone on this naturalist-led Tidepooling Eco Tour! \nWe will walk through the tide pools together while identifying and interacting with the various species that live there. Our naturalist guide will teach you about local ecology and conservation.
URL:https://oceanconnectors.org/event/sunrise-tidepool-exploration/
LOCATION:Top Secret Location\, CA\, United States
CATEGORIES:Tidepooling
ATTACH;FMTTYPE=image/jpeg:https://oceanconnectors.org/wp-content/uploads/2023/04/PXL_20230320_225516269-1-scaled-e1684861970446.jpg
ORGANIZER;CN="Eco Tours":MAILTO:eco-tours@oceanconnectors.org
END:VEVENT
END:VCALENDAR