BEGIN:VCALENDAR
VERSION:2.0
PRODID:-//Ocean Connectors - ECPv6.15.18//NONSGML v1.0//EN
CALSCALE:GREGORIAN
METHOD:PUBLISH
X-WR-CALNAME:Ocean Connectors
X-ORIGINAL-URL:https://oceanconnectors.org
X-WR-CALDESC:Events for Ocean Connectors
REFRESH-INTERVAL;VALUE=DURATION:PT1H
X-Robots-Tag:noindex
X-PUBLISHED-TTL:PT1H
BEGIN:VTIMEZONE
TZID:America/Los_Angeles
BEGIN:DAYLIGHT
TZOFFSETFROM:-0800
TZOFFSETTO:-0700
TZNAME:PDT
DTSTART:20250309T100000
END:DAYLIGHT
BEGIN:STANDARD
TZOFFSETFROM:-0700
TZOFFSETTO:-0800
TZNAME:PST
DTSTART:20251102T090000
END:STANDARD
BEGIN:DAYLIGHT
TZOFFSETFROM:-0800
TZOFFSETTO:-0700
TZNAME:PDT
DTSTART:20260308T100000
END:DAYLIGHT
BEGIN:STANDARD
TZOFFSETFROM:-0700
TZOFFSETTO:-0800
TZNAME:PST
DTSTART:20261101T090000
END:STANDARD
BEGIN:DAYLIGHT
TZOFFSETFROM:-0800
TZOFFSETTO:-0700
TZNAME:PDT
DTSTART:20270314T100000
END:DAYLIGHT
BEGIN:STANDARD
TZOFFSETFROM:-0700
TZOFFSETTO:-0800
TZNAME:PST
DTSTART:20271107T090000
END:STANDARD
END:VTIMEZONE
BEGIN:VEVENT
DTSTART;TZID=America/Los_Angeles:20260302T133000
DTEND;TZID=America/Los_Angeles:20260302T153000
DTSTAMP:20260425T050703
CREATED:20250518T192220Z
LAST-MODIFIED:20260120T033146Z
UID:10000533-1772458200-1772465400@oceanconnectors.org
SUMMARY:Tidepool Exploration
DESCRIPTION:Be an Ocean Connector and join us on a tide pooling adventure! \nStep into a world of fascinating marine life on our guided Tide Pool Exploration Eco Tour! Perfect for all ages\, this adventure brings you up close with the unique and diverse creatures of our local tide pools. With our knowledgeable guides\, you’ll learn about tide pool ecosystems and the vital role they play in coastal habitats. \nWhat to Expect: \n\nHands-On Exploration: Carefully observe tide pool life\, from sea stars\, crabs\, and anemones to some of the more elusive residents that reward a careful eye\, like two-spot octopus\, Spanish shawl nudibranchs\, spiny lobsters\, and occasionally even eels!\nEco-Education: Learn from our guides about tide pool ecosystems\, conservation\, and how to protect these delicate habitats.\nFamily-Friendly Adventure: Designed for all ages\, this tour is perfect for families\, students\, and anyone curious about marine life.\n\nDive into the wonders of the tide pools—sign up for a memorable\, up-close look at marine biodiversity! \nBest of all\, every tour supports our education programs for South Bay youth! Find out more at www.oceanconnectors.org \nGroup Discounts available on 6 or more tickets. Email eco-tours@oceanconnectors.org
URL:https://oceanconnectors.org/event/tidepool-exploration-34/
LOCATION:La Jolla\, CA (Meeting Location)\, 8604 Kennel Way\, La Jolla\, CA\, 92037\, United States
CATEGORIES:Tidepooling
ATTACH;FMTTYPE=image/jpeg:https://oceanconnectors.org/wp-content/uploads/2024/12/Ocean-Connectors-2nd-Tide-Pool-9-scaled.jpeg
ORGANIZER;CN="Eco Tours":MAILTO:eco-tours@oceanconnectors.org
GEO:32.863592;-117.254561
X-APPLE-STRUCTURED-LOCATION;VALUE=URI;X-ADDRESS=La Jolla CA (Meeting Location) 8604 Kennel Way La Jolla CA 92037 United States;X-APPLE-RADIUS=500;X-TITLE=8604 Kennel Way:geo:-117.254561,32.863592
END:VEVENT
BEGIN:VEVENT
DTSTART;TZID=America/Los_Angeles:20260303T083000
DTEND;TZID=America/Los_Angeles:20260303T113000
DTSTAMP:20260425T050703
CREATED:20260122T052959Z
LAST-MODIFIED:20260122T052959Z
UID:10000618-1772526600-1772537400@oceanconnectors.org
SUMMARY:Community Kayak Cleanup
DESCRIPTION:Be an Ocean Connector and join us as we clean up our wetlands! \nHelp keep our local waters beautiful and thriving by joining a kayak-based cleanup adventure! Paddle through coastal habitats\, collect litter\, and protect marine life while enjoying the beauty of the bay. No prior experience needed—just bring your enthusiasm\, and we’ll provide the equipment and guidance. Every piece of trash you collect helps create a cleaner\, healthier environment for our coastal communities. \nWhat to Expect: \n\nLitter Removal: Paddle through scenic waterways to remove litter that threatens wildlife and pollutes local ecosystems.\nGuided Experience: Enjoy a safe\, eco-friendly adventure led by our experienced team\, perfect for all skill levels.\nGear Provided: We supply everything you need\, including kayaks\, paddles\, life jackets\, gloves\, bags\, and grabbers.\nKayak and Safety Instructions: Before setting out\, we’ll provide a brief orientation on paddling techniques and safety guidelines to ensure a fun and secure experience.\nLitter Sorting and Data Collection: Help us sort and document the litter collected\, contributing valuable data to conservation efforts.\nExpect to Get Dirty: Be ready for a hands-on adventure! You might get wet\, muddy\, or a little dirty while making a big impact.\n\nJoin us in making a difference on the water—register now for our next kayak cleanup! \n\n\n\n \n\n\n\n\n\n \n 
URL:https://oceanconnectors.org/event/community-kayak-cleanup-61/
LOCATION:Bayside Park\, 999 Bayside Pkwy\, Chula Vista\, 91910
CATEGORIES:Kayak Clean Up
ATTACH;FMTTYPE=image/jpeg:https://oceanconnectors.org/wp-content/uploads/2024/02/Kayak.Cleanup.Pilot_.010823.3-1-scaled.jpg
ORGANIZER;CN="Eco Tours":MAILTO:eco-tours@oceanconnectors.org
END:VEVENT
BEGIN:VEVENT
DTSTART;TZID=America/Los_Angeles:20260307T100000
DTEND;TZID=America/Los_Angeles:20260307T123000
DTSTAMP:20260425T050703
CREATED:20260115T073058Z
LAST-MODIFIED:20260115T073058Z
UID:10000614-1772877600-1772886600@oceanconnectors.org
SUMMARY:Wildin' Mission Bay Kayak Eco Tour
DESCRIPTION:Join us for a unique kayaking eco tour of Mission Bay\, where you’ll paddle through calm waters and explore the bay’s diverse marine and bird life. With guidance from our eco-experts\, you’ll learn about the bay’s natural habitat and the ongoing conservation work that keeps it thriving. Suitable for all skill levels\, this eco-friendly adventure is perfect for anyone looking to experience Mission Bay from a new perspective. \nWhat to Expect: \n\nScenic Paddling: Enjoy a guided kayak trip through Mission Bay’s beautiful landscapes.\nMarine Life Spotting: Discover Mission Bay’s rich marine and bird life with the help of our knowledgeable guides.\nConservation Focus: Learn how you can support the bay’s ecosystems and see conservation efforts firsthand.\n\nExperience the magic of Mission Bay—reserve your spot on our next eco tour! \nBest of all\, every tour supports our education programs for South Bay youth!
URL:https://oceanconnectors.org/event/wildin-mission-bay-kayak-eco-tour-35/
LOCATION:Mission Bay Resort\, 1775 E Mission Bay Dr.\, San Diego\, CA\, 92109\, United States
CATEGORIES:Wildin' Mission Bay
ATTACH;FMTTYPE=image/jpeg:https://oceanconnectors.org/wp-content/uploads/2023/06/kayak3-e1687797669473.jpeg
ORGANIZER;CN="Eco Tours":MAILTO:eco-tours@oceanconnectors.org
END:VEVENT
BEGIN:VEVENT
DTSTART;TZID=America/Los_Angeles:20260307T100000
DTEND;TZID=America/Los_Angeles:20260307T130000
DTSTAMP:20260425T050703
CREATED:20260129T020326Z
LAST-MODIFIED:20260129T020326Z
UID:10000625-1772877600-1772888400@oceanconnectors.org
SUMMARY:Community Restoration Day
DESCRIPTION:Be an Ocean Connector and join us in restoring San Diego’s vital wetland habitats!\nGet hands-on experience in restoring coastal sagescrub habitats by helping remove invasive species\, planting native plants\, and supporting local wildlife. Each event wraps up with a guided nature walk where you can spot native birds and learn more about the area’s natural ecosystem. \nWhat to Expect: \n\nInvasive Species Removal: Help clear invasive plants that threaten local biodiversity.\nLitter Removal: Help keep our local environment clean and healthy by removing trash and debris.\nNative Planting: Restore balance by reintroducing native species that support local wildlife.\nNature Walk: Enjoy a guided exploration of the habitat\, perfect for birding and learning more about the ecosystem you’ve helped restore.\nSite Maintenance: Site Maintenance: Lend a hand in keeping our restoration site thriving. Tasks may include digging\, planting\, watering\, and general upkeep to ensure the health and beauty of our native plants.\n\nAll ages and experience levels are welcome. Bring your friends\, family\, and community members to help make a lasting impact—together\, we can restore these vital habitats and protect our coast for generations to come.
URL:https://oceanconnectors.org/event/community-restoration-day-8/
LOCATION:San Diego Bay Refuge\, 501 Florence St\, Imperial Beach\, CA\, 91932\, United States
CATEGORIES:Restoration Days
ATTACH;FMTTYPE=image/jpeg:https://oceanconnectors.org/wp-content/uploads/2026/01/PXL_20250402_185758931.MP_-scaled.jpg
ORGANIZER;CN="Eco Tours":MAILTO:eco-tours@oceanconnectors.org
END:VEVENT
BEGIN:VEVENT
DTSTART;TZID=America/Los_Angeles:20260313T123000
DTEND;TZID=America/Los_Angeles:20260313T143000
DTSTAMP:20260425T050703
CREATED:20250518T192355Z
LAST-MODIFIED:20260120T033223Z
UID:10000534-1773405000-1773412200@oceanconnectors.org
SUMMARY:Tidepool Exploration
DESCRIPTION:Be an Ocean Connector and join us on a tide pooling adventure! \nStep into a world of fascinating marine life on our guided Tide Pool Exploration Eco Tour! Perfect for all ages\, this adventure brings you up close with the unique and diverse creatures of our local tide pools. With our knowledgeable guides\, you’ll learn about tide pool ecosystems and the vital role they play in coastal habitats. \nWhat to Expect: \n\nHands-On Exploration: Carefully observe tide pool life\, from sea stars\, crabs\, and anemones to some of the more elusive residents that reward a careful eye\, like two-spot octopus\, Spanish shawl nudibranchs\, spiny lobsters\, and occasionally even eels!\nEco-Education: Learn from our guides about tide pool ecosystems\, conservation\, and how to protect these delicate habitats.\nFamily-Friendly Adventure: Designed for all ages\, this tour is perfect for families\, students\, and anyone curious about marine life.\n\nDive into the wonders of the tide pools—sign up for a memorable\, up-close look at marine biodiversity! \nBest of all\, every tour supports our education programs for South Bay youth! Find out more at www.oceanconnectors.org \nGroup Discounts available on 6 or more tickets. Email eco-tours@oceanconnectors.org
URL:https://oceanconnectors.org/event/tidepool-exploration-35/
LOCATION:La Jolla\, CA (Meeting Location)\, 8604 Kennel Way\, La Jolla\, CA\, 92037\, United States
CATEGORIES:Tidepooling
ATTACH;FMTTYPE=image/jpeg:https://oceanconnectors.org/wp-content/uploads/2024/12/Ocean-Connectors-2nd-Tide-Pool-9-scaled.jpeg
ORGANIZER;CN="Eco Tours":MAILTO:eco-tours@oceanconnectors.org
GEO:32.863592;-117.254561
X-APPLE-STRUCTURED-LOCATION;VALUE=URI;X-ADDRESS=La Jolla CA (Meeting Location) 8604 Kennel Way La Jolla CA 92037 United States;X-APPLE-RADIUS=500;X-TITLE=8604 Kennel Way:geo:-117.254561,32.863592
END:VEVENT
BEGIN:VEVENT
DTSTART;TZID=America/Los_Angeles:20260314T083000
DTEND;TZID=America/Los_Angeles:20260314T113000
DTSTAMP:20260425T050703
CREATED:20250508T180254Z
LAST-MODIFIED:20260120T024613Z
UID:10000501-1773477000-1773487800@oceanconnectors.org
SUMMARY:Wildlife Kayaking Eco Tour
DESCRIPTION:Be an Ocean Connector and join us for a Wildlife Kayaking Eco Tour! \nJoin us for a guided Wildlife Kayaking Eco Tour through the beautiful waterways of South San Diego Bay\, ending in the restored Chula Vista Wetlands. This scenic\, two-hour paddle offers a unique opportunity to explore coastal habitats while learning about the wildlife and conservation efforts that make South San Diego Bay so special. \nAlong the way\, you may spot osprey diving for fish\, great blue herons and egrets wading in the shallows\, nesting terns (April to September)\, and a variety of migrating birds (October to March). With a little luck\, guests can even catch a glimpse of a Pacific green sea turtle cruising through the bay! \nThis tour is welcoming to all skill levels and moves at a comfortable pace\, with plenty of time to enjoy the surroundings. The route is about two hours long\, and wind conditions can vary\, adding a bit of adventure while still remaining accessible for beginners. \nWhat to Expect: \n\nWildlife Viewing: Paddle through the waters\, keeping an eye out for local wildlife\, from native birds to coastal critters.\nEducational Insights: Our expert guides will provide fascinating information about the local ecosystems and conservation efforts.\nChula Vista Wetlands: Paddle toward the restored wetlands\, a vital area for wildlife and an important conservation success story.\n\nCome prepared for a fun and challenging adventure while experiencing the beauty of the Chula Vista Wetlands. Sign up for our next Wildlife Kayaking Eco Tour today! \nBest of all\, every tour supports our education programs for South Bay youth! Find more information at www.oceanconnectors.org \nGroup Discounts available on 6 or more tickets. Email eco-tours@oceanconnectors.org
URL:https://oceanconnectors.org/event/wildlife-kayaking-eco-tour-105/
LOCATION:Bayside Park\, 999 Bayside Pkwy\, Chula Vista\, 91910
CATEGORIES:Wildlife Kayaking
ATTACH;FMTTYPE=image/jpeg:https://oceanconnectors.org/wp-content/uploads/2024/11/Ocean-Connectors-12-2-scaled.jpeg
ORGANIZER;CN="Eco Tours":MAILTO:eco-tours@oceanconnectors.org
END:VEVENT
BEGIN:VEVENT
DTSTART;TZID=America/Los_Angeles:20260314T130000
DTEND;TZID=America/Los_Angeles:20260314T150000
DTSTAMP:20260425T050703
CREATED:20250518T192627Z
LAST-MODIFIED:20260120T033322Z
UID:10000535-1773493200-1773500400@oceanconnectors.org
SUMMARY:Tidepool Exploration
DESCRIPTION:Be an Ocean Connector and join us on a tide pooling adventure! \nStep into a world of fascinating marine life on our guided Tide Pool Exploration Eco Tour! Perfect for all ages\, this adventure brings you up close with the unique and diverse creatures of our local tide pools. With our knowledgeable guides\, you’ll learn about tide pool ecosystems and the vital role they play in coastal habitats. \nWhat to Expect: \n\nHands-On Exploration: Carefully observe tide pool life\, from sea stars\, crabs\, and anemones to some of the more elusive residents that reward a careful eye\, like two-spot octopus\, Spanish shawl nudibranchs\, spiny lobsters\, and occasionally even eels!\nEco-Education: Learn from our guides about tide pool ecosystems\, conservation\, and how to protect these delicate habitats.\nFamily-Friendly Adventure: Designed for all ages\, this tour is perfect for families\, students\, and anyone curious about marine life.\n\nDive into the wonders of the tide pools—sign up for a memorable\, up-close look at marine biodiversity! \nBest of all\, every tour supports our education programs for South Bay youth! Find out more at www.oceanconnectors.org \nGroup Discounts available on 6 or more tickets. Email eco-tours@oceanconnectors.org
URL:https://oceanconnectors.org/event/tidepool-exploration-36/
LOCATION:La Jolla\, CA (Meeting Location)\, 8604 Kennel Way\, La Jolla\, CA\, 92037\, United States
CATEGORIES:Tidepooling
ATTACH;FMTTYPE=image/jpeg:https://oceanconnectors.org/wp-content/uploads/2026/01/PXL_20251230_201625754.PORTRAIT.ORIGINAL-scaled-e1768876498642.jpg
ORGANIZER;CN="Eco Tours":MAILTO:eco-tours@oceanconnectors.org
GEO:32.863592;-117.254561
X-APPLE-STRUCTURED-LOCATION;VALUE=URI;X-ADDRESS=La Jolla CA (Meeting Location) 8604 Kennel Way La Jolla CA 92037 United States;X-APPLE-RADIUS=500;X-TITLE=8604 Kennel Way:geo:-117.254561,32.863592
END:VEVENT
BEGIN:VEVENT
DTSTART;TZID=America/Los_Angeles:20260318T143000
DTEND;TZID=America/Los_Angeles:20260318T163000
DTSTAMP:20260425T050703
CREATED:20250518T192834Z
LAST-MODIFIED:20260120T033414Z
UID:10000536-1773844200-1773851400@oceanconnectors.org
SUMMARY:Tidepool Exploration
DESCRIPTION:Be an Ocean Connector and join us on a tide pooling adventure! \nStep into a world of fascinating marine life on our guided Tide Pool Exploration Eco Tour! Perfect for all ages\, this adventure brings you up close with the unique and diverse creatures of our local tide pools. With our knowledgeable guides\, you’ll learn about tide pool ecosystems and the vital role they play in coastal habitats. \nWhat to Expect: \n\nHands-On Exploration: Carefully observe tide pool life\, from sea stars\, crabs\, and anemones to some of the more elusive residents that reward a careful eye\, like two-spot octopus\, Spanish shawl nudibranchs\, spiny lobsters\, and occasionally even eels!\nEco-Education: Learn from our guides about tide pool ecosystems\, conservation\, and how to protect these delicate habitats.\nFamily-Friendly Adventure: Designed for all ages\, this tour is perfect for families\, students\, and anyone curious about marine life.\n\nDive into the wonders of the tide pools—sign up for a memorable\, up-close look at marine biodiversity! \nBest of all\, every tour supports our education programs for South Bay youth! Find out more at www.oceanconnectors.org \nGroup Discounts available on 6 or more tickets. Email eco-tours@oceanconnectors.org
URL:https://oceanconnectors.org/event/tidepool-exploration-37/
LOCATION:La Jolla\, CA (Meeting Location)\, 8604 Kennel Way\, La Jolla\, CA\, 92037\, United States
CATEGORIES:Tidepooling
ATTACH;FMTTYPE=image/jpeg:https://oceanconnectors.org/wp-content/uploads/2024/12/BatStar_TP_RW2.jpg
ORGANIZER;CN="Eco Tours":MAILTO:eco-tours@oceanconnectors.org
GEO:32.863592;-117.254561
X-APPLE-STRUCTURED-LOCATION;VALUE=URI;X-ADDRESS=La Jolla CA (Meeting Location) 8604 Kennel Way La Jolla CA 92037 United States;X-APPLE-RADIUS=500;X-TITLE=8604 Kennel Way:geo:-117.254561,32.863592
END:VEVENT
BEGIN:VEVENT
DTSTART;TZID=America/Los_Angeles:20260321T083000
DTEND;TZID=America/Los_Angeles:20260321T113000
DTSTAMP:20260425T050703
CREATED:20250508T180442Z
LAST-MODIFIED:20260120T024741Z
UID:10000504-1774081800-1774092600@oceanconnectors.org
SUMMARY:Wildlife Kayaking Eco Tour
DESCRIPTION:Be an Ocean Connector and join us for a Wildlife Kayaking Eco Tour! \nJoin us for a guided Wildlife Kayaking Eco Tour through the beautiful waterways of South San Diego Bay\, ending in the restored Chula Vista Wetlands. This scenic\, two-hour paddle offers a unique opportunity to explore coastal habitats while learning about the wildlife and conservation efforts that make South San Diego Bay so special. \nAlong the way\, you may spot osprey diving for fish\, great blue herons and egrets wading in the shallows\, nesting terns (April to September)\, and a variety of migrating birds (October to March). With a little luck\, guests can even catch a glimpse of a Pacific green sea turtle cruising through the bay! \nThis tour is welcoming to all skill levels and moves at a comfortable pace\, with plenty of time to enjoy the surroundings. The route is about two hours long\, and wind conditions can vary\, adding a bit of adventure while still remaining accessible for beginners. \nWhat to Expect: \n\nWildlife Viewing: Paddle through the waters\, keeping an eye out for local wildlife\, from native birds to coastal critters.\nEducational Insights: Our expert guides will provide fascinating information about the local ecosystems and conservation efforts.\nChula Vista Wetlands: Paddle toward the restored wetlands\, a vital area for wildlife and an important conservation success story.\n\nCome prepared for a fun and challenging adventure while experiencing the beauty of the Chula Vista Wetlands. Sign up for our next Wildlife Kayaking Eco Tour today! \nBest of all\, every tour supports our education programs for South Bay youth! Find more information at www.oceanconnectors.org \nGroup Discounts available on 6 or more tickets. Email eco-tours@oceanconnectors.org
URL:https://oceanconnectors.org/event/wildlife-kayaking-eco-tour-107/
LOCATION:Bayside Park\, 999 Bayside Pkwy\, Chula Vista\, 91910
CATEGORIES:Wildlife Kayaking
ATTACH;FMTTYPE=image/jpeg:https://oceanconnectors.org/wp-content/uploads/2024/11/2-Wildlife-Kayaking-Eco-Tour-2022-Ida-Kaller-Vincent-scaled.jpg
ORGANIZER;CN="Eco Tours":MAILTO:eco-tours@oceanconnectors.org
END:VEVENT
BEGIN:VEVENT
DTSTART;TZID=America/Los_Angeles:20260322T100000
DTEND;TZID=America/Los_Angeles:20260322T130000
DTSTAMP:20260425T050703
CREATED:20260129T020729Z
LAST-MODIFIED:20260129T020729Z
UID:10000626-1774173600-1774184400@oceanconnectors.org
SUMMARY:Community Restoration Day
DESCRIPTION:Be an Ocean Connector and join us in restoring San Diego’s vital wetland habitats!\nGet hands-on experience in restoring coastal sagescrub habitats by helping remove invasive species\, planting native plants\, and supporting local wildlife. Each event wraps up with a guided nature walk where you can spot native birds and learn more about the area’s natural ecosystem. \nWhat to Expect: \n\nInvasive Species Removal: Help clear invasive plants that threaten local biodiversity.\nLitter Removal: Help keep our local environment clean and healthy by removing trash and debris.\nNative Planting: Restore balance by reintroducing native species that support local wildlife.\nNature Walk: Enjoy a guided exploration of the habitat\, perfect for birding and learning more about the ecosystem you’ve helped restore.\nSite Maintenance: Site Maintenance: Lend a hand in keeping our restoration site thriving. Tasks may include digging\, planting\, watering\, and general upkeep to ensure the health and beauty of our native plants.\n\nAll ages and experience levels are welcome. Bring your friends\, family\, and community members to help make a lasting impact—together\, we can restore these vital habitats and protect our coast for generations to come.
URL:https://oceanconnectors.org/event/community-restoration-day-9/
LOCATION:Living Coast Refuge\, 1000 Gunpoweder Point Dr.\, Chula Vista\, CA\, 91910\, United States
CATEGORIES:Restoration Days
ATTACH;FMTTYPE=image/jpeg:https://oceanconnectors.org/wp-content/uploads/2026/01/PXL_20250402_185758931.MP_-scaled.jpg
ORGANIZER;CN="Eco Tours":MAILTO:eco-tours@oceanconnectors.org
END:VEVENT
BEGIN:VEVENT
DTSTART;TZID=America/Los_Angeles:20260324T080000
DTEND;TZID=America/Los_Angeles:20260324T100000
DTSTAMP:20260425T050703
CREATED:20250518T193053Z
LAST-MODIFIED:20260120T033456Z
UID:10000537-1774339200-1774346400@oceanconnectors.org
SUMMARY:Tidepool Exploration
DESCRIPTION:Be an Ocean Connector and join us on a tide pooling adventure! \nStep into a world of fascinating marine life on our guided Tide Pool Exploration Eco Tour! Perfect for all ages\, this adventure brings you up close with the unique and diverse creatures of our local tide pools. With our knowledgeable guides\, you’ll learn about tide pool ecosystems and the vital role they play in coastal habitats. \nWhat to Expect: \n\nHands-On Exploration: Carefully observe tide pool life\, from sea stars\, crabs\, and anemones to some of the more elusive residents that reward a careful eye\, like two-spot octopus\, Spanish shawl nudibranchs\, spiny lobsters\, and occasionally even eels!\nEco-Education: Learn from our guides about tide pool ecosystems\, conservation\, and how to protect these delicate habitats.\nFamily-Friendly Adventure: Designed for all ages\, this tour is perfect for families\, students\, and anyone curious about marine life.\n\nDive into the wonders of the tide pools—sign up for a memorable\, up-close look at marine biodiversity! \nBest of all\, every tour supports our education programs for South Bay youth! Find out more at www.oceanconnectors.org \nGroup Discounts available on 6 or more tickets. Email eco-tours@oceanconnectors.org
URL:https://oceanconnectors.org/event/tidepool-exploration-38/
LOCATION:La Jolla\, CA (Meeting Location)\, 8604 Kennel Way\, La Jolla\, CA\, 92037\, United States
CATEGORIES:Tidepooling
ATTACH;FMTTYPE=image/jpeg:https://oceanconnectors.org/wp-content/uploads/2024/12/BatStar_TP_RW2.jpg
ORGANIZER;CN="Eco Tours":MAILTO:eco-tours@oceanconnectors.org
GEO:32.863592;-117.254561
X-APPLE-STRUCTURED-LOCATION;VALUE=URI;X-ADDRESS=La Jolla CA (Meeting Location) 8604 Kennel Way La Jolla CA 92037 United States;X-APPLE-RADIUS=500;X-TITLE=8604 Kennel Way:geo:-117.254561,32.863592
END:VEVENT
BEGIN:VEVENT
DTSTART;TZID=America/Los_Angeles:20260328T123000
DTEND;TZID=America/Los_Angeles:20260328T143000
DTSTAMP:20260425T050703
CREATED:20250518T193306Z
LAST-MODIFIED:20260120T033556Z
UID:10000538-1774701000-1774708200@oceanconnectors.org
SUMMARY:Tidepool Exploration
DESCRIPTION:Be an Ocean Connector and join us on a tide pooling adventure! \nStep into a world of fascinating marine life on our guided Tide Pool Exploration Eco Tour! Perfect for all ages\, this adventure brings you up close with the unique and diverse creatures of our local tide pools. With our knowledgeable guides\, you’ll learn about tide pool ecosystems and the vital role they play in coastal habitats. \nWhat to Expect: \n\nHands-On Exploration: Carefully observe tide pool life\, from sea stars\, crabs\, and anemones to some of the more elusive residents that reward a careful eye\, like two-spot octopus\, Spanish shawl nudibranchs\, spiny lobsters\, and occasionally even eels!\nEco-Education: Learn from our guides about tide pool ecosystems\, conservation\, and how to protect these delicate habitats.\nFamily-Friendly Adventure: Designed for all ages\, this tour is perfect for families\, students\, and anyone curious about marine life.\n\nDive into the wonders of the tide pools—sign up for a memorable\, up-close look at marine biodiversity! \nBest of all\, every tour supports our education programs for South Bay youth! Find out more at www.oceanconnectors.org \nGroup Discounts available on 6 or more tickets. Email eco-tours@oceanconnectors.org
URL:https://oceanconnectors.org/event/tidepool-exploration-39/
LOCATION:La Jolla\, CA (Meeting Location)\, 8604 Kennel Way\, La Jolla\, CA\, 92037\, United States
CATEGORIES:Tidepooling
ATTACH;FMTTYPE=image/jpeg:https://oceanconnectors.org/wp-content/uploads/2026/01/PXL_20251230_200207158.MP_-scaled.jpg
ORGANIZER;CN="Eco Tours":MAILTO:eco-tours@oceanconnectors.org
GEO:32.863592;-117.254561
X-APPLE-STRUCTURED-LOCATION;VALUE=URI;X-ADDRESS=La Jolla CA (Meeting Location) 8604 Kennel Way La Jolla CA 92037 United States;X-APPLE-RADIUS=500;X-TITLE=8604 Kennel Way:geo:-117.254561,32.863592
END:VEVENT
BEGIN:VEVENT
DTSTART;TZID=America/Los_Angeles:20260331T140000
DTEND;TZID=America/Los_Angeles:20260331T160000
DTSTAMP:20260425T050704
CREATED:20250518T194104Z
LAST-MODIFIED:20260120T033711Z
UID:10000539-1774965600-1774972800@oceanconnectors.org
SUMMARY:Tidepool Exploration
DESCRIPTION:Be an Ocean Connector and join us on a tide pooling adventure! \nStep into a world of fascinating marine life on our guided Tide Pool Exploration Eco Tour! Perfect for all ages\, this adventure brings you up close with the unique and diverse creatures of our local tide pools. With our knowledgeable guides\, you’ll learn about tide pool ecosystems and the vital role they play in coastal habitats. \nWhat to Expect: \n\nHands-On Exploration: Carefully observe tide pool life\, from sea stars\, crabs\, and anemones to some of the more elusive residents that reward a careful eye\, like two-spot octopus\, Spanish shawl nudibranchs\, spiny lobsters\, and occasionally even eels!\nEco-Education: Learn from our guides about tide pool ecosystems\, conservation\, and how to protect these delicate habitats.\nFamily-Friendly Adventure: Designed for all ages\, this tour is perfect for families\, students\, and anyone curious about marine life.\n\nDive into the wonders of the tide pools—sign up for a memorable\, up-close look at marine biodiversity! \nBest of all\, every tour supports our education programs for South Bay youth! Find out more at www.oceanconnectors.org \nGroup Discounts available on 6 or more tickets. Email eco-tours@oceanconnectors.org
URL:https://oceanconnectors.org/event/tidepool-exploration-40/
LOCATION:La Jolla\, CA (Meeting Location)\, 8604 Kennel Way\, La Jolla\, CA\, 92037\, United States
CATEGORIES:Tidepooling
ATTACH;FMTTYPE=image/jpeg:https://oceanconnectors.org/wp-content/uploads/2024/10/PXL_20241019_003054019-scaled.jpg
ORGANIZER;CN="Eco Tours":MAILTO:eco-tours@oceanconnectors.org
GEO:32.863592;-117.254561
X-APPLE-STRUCTURED-LOCATION;VALUE=URI;X-ADDRESS=La Jolla CA (Meeting Location) 8604 Kennel Way La Jolla CA 92037 United States;X-APPLE-RADIUS=500;X-TITLE=8604 Kennel Way:geo:-117.254561,32.863592
END:VEVENT
END:VCALENDAR