BEGIN:VCALENDAR
VERSION:2.0
PRODID:-//Ocean Connectors - ECPv6.15.18//NONSGML v1.0//EN
CALSCALE:GREGORIAN
METHOD:PUBLISH
X-WR-CALNAME:Ocean Connectors
X-ORIGINAL-URL:https://oceanconnectors.org
X-WR-CALDESC:Events for Ocean Connectors
REFRESH-INTERVAL;VALUE=DURATION:PT1H
X-Robots-Tag:noindex
X-PUBLISHED-TTL:PT1H
BEGIN:VTIMEZONE
TZID:America/Los_Angeles
BEGIN:DAYLIGHT
TZOFFSETFROM:-0800
TZOFFSETTO:-0700
TZNAME:PDT
DTSTART:20240310T100000
END:DAYLIGHT
BEGIN:STANDARD
TZOFFSETFROM:-0700
TZOFFSETTO:-0800
TZNAME:PST
DTSTART:20241103T090000
END:STANDARD
BEGIN:DAYLIGHT
TZOFFSETFROM:-0800
TZOFFSETTO:-0700
TZNAME:PDT
DTSTART:20250309T100000
END:DAYLIGHT
BEGIN:STANDARD
TZOFFSETFROM:-0700
TZOFFSETTO:-0800
TZNAME:PST
DTSTART:20251102T090000
END:STANDARD
BEGIN:DAYLIGHT
TZOFFSETFROM:-0800
TZOFFSETTO:-0700
TZNAME:PDT
DTSTART:20260308T100000
END:DAYLIGHT
BEGIN:STANDARD
TZOFFSETFROM:-0700
TZOFFSETTO:-0800
TZNAME:PST
DTSTART:20261101T090000
END:STANDARD
BEGIN:DAYLIGHT
TZOFFSETFROM:-0800
TZOFFSETTO:-0700
TZNAME:PDT
DTSTART:20270314T100000
END:DAYLIGHT
BEGIN:STANDARD
TZOFFSETFROM:-0700
TZOFFSETTO:-0800
TZNAME:PST
DTSTART:20271107T090000
END:STANDARD
END:VTIMEZONE
BEGIN:VEVENT
DTSTART;TZID=America/Los_Angeles:20260125T100000
DTEND;TZID=America/Los_Angeles:20260125T123000
DTSTAMP:20260423T091506
CREATED:20251224T225338Z
LAST-MODIFIED:20260120T013637Z
UID:10000610-1769335200-1769344200@oceanconnectors.org
SUMMARY:North County Nature Paddle Eco Tour
DESCRIPTION:Be an Ocean Connector and join us on one of our North County Kayaking adventures!\nDiscover the natural beauty of Agua Hedionda Lagoon on a guided kayaking tour through this unique coastal ecosystem in Carlsbad. As you paddle through calm waters near the lagoon’s wetlands\, keep an eye out for snowy egrets\, great egrets\, and great blue herons foraging along the shoreline. You may also spot a belted kingfisher darting across the water\, killdeer along the muddy upland edges\, or red-tailed hawks perched high on the powerlines above. Along the way\, learn about local conservation efforts\, wetland restoration\, and the rich biodiversity that makes this lagoon such an important habitat. \nThis eco tour is suitable for all experience levels and offers a meaningful way to connect with nature while supporting environmental education and stewardship. \nWhat to Expect: \n\nWildlife Viewing: Watch for native birds and other wildlife as you explore the lagoon by kayak.\nEducational Insights: Learn about lagoon ecology\, restoration projects\, and sustainable aquaculture.\nBirding Support: Binoculars and bird identification guides are provided to enhance your experience.\nGuided Exploration: Enjoy expert-led interpretation while paddling through this peaceful marine habitat.\n\nJoin us for an inspiring on-the-water experience highlighting the importance of preserving San Diego’s coastal resources. \nGroup Discounts available on 6 or more tickets. Email eco-tours@oceanconnectors.org
URL:https://oceanconnectors.org/event/north-county-nature-paddle-eco-tour-15/
LOCATION:California Watersports at Agua Hedionda Lagoon\, 4215 Harrison St\,\, Carlsbad\, CA\, 92008\, United States
CATEGORIES:Agua Hedionda Kayaking
ATTACH;FMTTYPE=image/jpeg:https://oceanconnectors.org/wp-content/uploads/2025/06/AHL-Kayaking-05-31-25-37-scaled.jpg
ORGANIZER;CN="Eco Tours":MAILTO:eco-tours@oceanconnectors.org
END:VEVENT
BEGIN:VEVENT
DTSTART;TZID=America/Los_Angeles:20250919T100000
DTEND;TZID=America/Los_Angeles:20250919T123000
DTSTAMP:20260423T091506
CREATED:20250708T194023Z
LAST-MODIFIED:20250708T194023Z
UID:10000586-1758276000-1758285000@oceanconnectors.org
SUMMARY:North County Nature Paddle Eco Tour
DESCRIPTION:Be an Ocean Connector and join us on one of our Wildlife Kayaking adventures!\nDiscover the natural beauty of Agua Hedionda Lagoon on a guided kayaking tour through this unique coastal ecosystem in Carlsbad. Paddle through calm waters while learning about local conservation efforts\, wetland restoration\, and the rich biodiversity that makes this area so important. \nThis eco tour is suitable for all experience levels and offers a meaningful way to connect with nature while supporting environmental education and stewardship. \nWhat to Expect: \n\nWildlife Viewing: Watch for native birds and other wildlife as you explore the lagoon by kayak.\nEducational Insights: Learn about lagoon ecology\, restoration projects\, and sustainable aquaculture.\nBirding Support: Binoculars and bird identification guides are provided to enhance your experience.\nGuided Exploration: Enjoy expert-led interpretation while paddling through this peaceful marine habitat.\n\nJoin us for an inspiring on-the-water experience highlighting the importance of preserving San Diego’s coastal resources.
URL:https://oceanconnectors.org/event/north-county-nature-paddle-eco-tour-12/
LOCATION:California Watersports at Agua Hedionda Lagoon\, 4215 Harrison St\,\, Carlsbad\, CA\, 92008\, United States
CATEGORIES:Agua Hedionda Kayaking
ATTACH;FMTTYPE=image/jpeg:https://oceanconnectors.org/wp-content/uploads/2025/06/AHL-Scouting-5-6-25-5-scaled.jpg
ORGANIZER;CN="Eco Tours":MAILTO:eco-tours@oceanconnectors.org
END:VEVENT
BEGIN:VEVENT
DTSTART;TZID=America/Los_Angeles:20250912T100000
DTEND;TZID=America/Los_Angeles:20250912T123000
DTSTAMP:20260423T091506
CREATED:20250708T193513Z
LAST-MODIFIED:20250708T193513Z
UID:10000585-1757671200-1757680200@oceanconnectors.org
SUMMARY:North County Nature Paddle Eco Tour
DESCRIPTION:Be an Ocean Connector and join us on one of our Wildlife Kayaking adventures!\nDiscover the natural beauty of Agua Hedionda Lagoon on a guided kayaking tour through this unique coastal ecosystem in Carlsbad. Paddle through calm waters while learning about local conservation efforts\, wetland restoration\, and the rich biodiversity that makes this area so important. \nThis eco tour is suitable for all experience levels and offers a meaningful way to connect with nature while supporting environmental education and stewardship. \nWhat to Expect: \n\nWildlife Viewing: Watch for native birds and other wildlife as you explore the lagoon by kayak.\nEducational Insights: Learn about lagoon ecology\, restoration projects\, and sustainable aquaculture.\nBirding Support: Binoculars and bird identification guides are provided to enhance your experience.\nGuided Exploration: Enjoy expert-led interpretation while paddling through this peaceful marine habitat.\n\nJoin us for an inspiring on-the-water experience highlighting the importance of preserving San Diego’s coastal resources.
URL:https://oceanconnectors.org/event/north-county-nature-paddle-eco-tour-11/
LOCATION:California Watersports at Agua Hedionda Lagoon\, 4215 Harrison St\,\, Carlsbad\, CA\, 92008\, United States
CATEGORIES:Agua Hedionda Kayaking
ATTACH;FMTTYPE=image/jpeg:https://oceanconnectors.org/wp-content/uploads/2025/06/AHL-Kayaking-05-31-25-36-scaled.jpg
ORGANIZER;CN="Eco Tours":MAILTO:eco-tours@oceanconnectors.org
END:VEVENT
BEGIN:VEVENT
DTSTART;TZID=America/Los_Angeles:20250903T100000
DTEND;TZID=America/Los_Angeles:20250903T123000
DTSTAMP:20260423T091506
CREATED:20250708T191845Z
LAST-MODIFIED:20250708T193119Z
UID:10000583-1756893600-1756902600@oceanconnectors.org
SUMMARY:North County Nature Paddle Eco Tour
DESCRIPTION:Be an Ocean Connector and join us on one of our Wildlife Kayaking adventures!\nDiscover the natural beauty of Agua Hedionda Lagoon on a guided kayaking tour through this unique coastal ecosystem in Carlsbad. Paddle through calm waters while learning about local conservation efforts\, wetland restoration\, and the rich biodiversity that makes this area so important. \nThis eco tour is suitable for all experience levels and offers a meaningful way to connect with nature while supporting environmental education and stewardship. \nWhat to Expect: \n\nWildlife Viewing: Watch for native birds and other wildlife as you explore the lagoon by kayak.\nEducational Insights: Learn about lagoon ecology\, restoration projects\, and sustainable aquaculture.\nBirding Support: Binoculars and bird identification guides are provided to enhance your experience.\nGuided Exploration: Enjoy expert-led interpretation while paddling through this peaceful marine habitat.\n\nJoin us for an inspiring on-the-water experience highlighting the importance of preserving San Diego’s coastal resources.
URL:https://oceanconnectors.org/event/north-county-nature-paddle-eco-tour-10/
LOCATION:California Watersports at Agua Hedionda Lagoon\, 4215 Harrison St\,\, Carlsbad\, CA\, 92008\, United States
CATEGORIES:Agua Hedionda Kayaking
ATTACH;FMTTYPE=image/jpeg:https://oceanconnectors.org/wp-content/uploads/2025/06/AHL-Kayaking-05-31-25-3-scaled.jpg
ORGANIZER;CN="Eco Tours":MAILTO:eco-tours@oceanconnectors.org
END:VEVENT
BEGIN:VEVENT
DTSTART;TZID=America/Los_Angeles:20250827T100000
DTEND;TZID=America/Los_Angeles:20250827T123000
DTSTAMP:20260423T091506
CREATED:20250708T191353Z
LAST-MODIFIED:20250708T192831Z
UID:10000581-1756288800-1756297800@oceanconnectors.org
SUMMARY:North County Nature Paddle Eco Tour
DESCRIPTION:Be an Ocean Connector and join us on one of our Wildlife Kayaking adventures!\nDiscover the natural beauty of Agua Hedionda Lagoon on a guided kayaking tour through this unique coastal ecosystem in Carlsbad. Paddle through calm waters while learning about local conservation efforts\, wetland restoration\, and the rich biodiversity that makes this area so important. \nThis eco tour is suitable for all experience levels and offers a meaningful way to connect with nature while supporting environmental education and stewardship. \nWhat to Expect: \n\nWildlife Viewing: Watch for native birds and other wildlife as you explore the lagoon by kayak.\nEducational Insights: Learn about lagoon ecology\, restoration projects\, and sustainable aquaculture.\nBirding Support: Binoculars and bird identification guides are provided to enhance your experience.\nGuided Exploration: Enjoy expert-led interpretation while paddling through this peaceful marine habitat.\n\nJoin us for an inspiring on-the-water experience highlighting the importance of preserving San Diego’s coastal resources.
URL:https://oceanconnectors.org/event/north-county-nature-paddle-eco-tour-8/
LOCATION:California Watersports at Agua Hedionda Lagoon\, 4215 Harrison St\,\, Carlsbad\, CA\, 92008\, United States
CATEGORIES:Agua Hedionda Kayaking
ATTACH;FMTTYPE=image/jpeg:https://oceanconnectors.org/wp-content/uploads/2025/06/AHL-Scouting-5-6-25-13-scaled.jpg
ORGANIZER;CN="Eco Tours":MAILTO:eco-tours@oceanconnectors.org
END:VEVENT
BEGIN:VEVENT
DTSTART;TZID=America/Los_Angeles:20250820T100000
DTEND;TZID=America/Los_Angeles:20250820T123000
DTSTAMP:20260423T091506
CREATED:20250708T191054Z
LAST-MODIFIED:20250708T192738Z
UID:10000580-1755684000-1755693000@oceanconnectors.org
SUMMARY:North County Nature Paddle Eco Tour
DESCRIPTION:Be an Ocean Connector and join us on one of our Wildlife Kayaking adventures!\nDiscover the natural beauty of Agua Hedionda Lagoon on a guided kayaking tour through this unique coastal ecosystem in Carlsbad. Paddle through calm waters while learning about local conservation efforts\, wetland restoration\, and the rich biodiversity that makes this area so important. \nThis eco tour is suitable for all experience levels and offers a meaningful way to connect with nature while supporting environmental education and stewardship. \nWhat to Expect: \n\nWildlife Viewing: Watch for native birds and other wildlife as you explore the lagoon by kayak.\nEducational Insights: Learn about lagoon ecology\, restoration projects\, and sustainable aquaculture.\nBirding Support: Binoculars and bird identification guides are provided to enhance your experience.\nGuided Exploration: Enjoy expert-led interpretation while paddling through this peaceful marine habitat.\n\nJoin us for an inspiring on-the-water experience highlighting the importance of preserving San Diego’s coastal resources.
URL:https://oceanconnectors.org/event/north-county-nature-paddle-eco-tour-7/
LOCATION:California Watersports at Agua Hedionda Lagoon\, 4215 Harrison St\,\, Carlsbad\, CA\, 92008\, United States
CATEGORIES:Agua Hedionda Kayaking
ATTACH;FMTTYPE=image/jpeg:https://oceanconnectors.org/wp-content/uploads/2025/06/AHL-Kayaking-05-31-25-37-scaled.jpg
ORGANIZER;CN="Eco Tours":MAILTO:eco-tours@oceanconnectors.org
END:VEVENT
BEGIN:VEVENT
DTSTART;TZID=America/Los_Angeles:20250813T100000
DTEND;TZID=America/Los_Angeles:20250813T123000
DTSTAMP:20260423T091506
CREATED:20250708T190421Z
LAST-MODIFIED:20250708T192506Z
UID:10000578-1755079200-1755088200@oceanconnectors.org
SUMMARY:North County Nature Paddle Eco Tour
DESCRIPTION:Be an Ocean Connector and join us on one of our Wildlife Kayaking adventures!\nDiscover the natural beauty of Agua Hedionda Lagoon on a guided kayaking tour through this unique coastal ecosystem in Carlsbad. Paddle through calm waters while learning about local conservation efforts\, wetland restoration\, and the rich biodiversity that makes this area so important. \nThis eco tour is suitable for all experience levels and offers a meaningful way to connect with nature while supporting environmental education and stewardship. \nWhat to Expect: \n\nWildlife Viewing: Watch for native birds and other wildlife as you explore the lagoon by kayak.\nEducational Insights: Learn about lagoon ecology\, restoration projects\, and sustainable aquaculture.\nBirding Support: Binoculars and bird identification guides are provided to enhance your experience.\nGuided Exploration: Enjoy expert-led interpretation while paddling through this peaceful marine habitat.\n\nJoin us for an inspiring on-the-water experience highlighting the importance of preserving San Diego’s coastal resources.
URL:https://oceanconnectors.org/event/north-county-nature-paddle-eco-tour-5/
LOCATION:California Watersports at Agua Hedionda Lagoon\, 4215 Harrison St\,\, Carlsbad\, CA\, 92008\, United States
CATEGORIES:Agua Hedionda Kayaking
ATTACH;FMTTYPE=image/jpeg:https://oceanconnectors.org/wp-content/uploads/2025/06/AHL-Kayaking-05-31-25-36-scaled.jpg
ORGANIZER;CN="Eco Tours":MAILTO:eco-tours@oceanconnectors.org
END:VEVENT
BEGIN:VEVENT
DTSTART;TZID=America/Los_Angeles:20250802T100000
DTEND;TZID=America/Los_Angeles:20250802T123000
DTSTAMP:20260423T091506
CREATED:20250708T184945Z
LAST-MODIFIED:20250708T192321Z
UID:10000577-1754128800-1754137800@oceanconnectors.org
SUMMARY:North County Nature Paddle Eco Tour
DESCRIPTION:Be an Ocean Connector and join us on one of our Wildlife Kayaking adventures!\nDiscover the natural beauty of Agua Hedionda Lagoon on a guided kayaking tour through this unique coastal ecosystem in Carlsbad. Paddle through calm waters while learning about local conservation efforts\, wetland restoration\, and the rich biodiversity that makes this area so important. \nThis eco tour is suitable for all experience levels and offers a meaningful way to connect with nature while supporting environmental education and stewardship. \nWhat to Expect: \n\nWildlife Viewing: Watch for native birds and other wildlife as you explore the lagoon by kayak.\nEducational Insights: Learn about lagoon ecology\, restoration projects\, and sustainable aquaculture.\nBirding Support: Binoculars and bird identification guides are provided to enhance your experience.\nGuided Exploration: Enjoy expert-led interpretation while paddling through this peaceful marine habitat.\n\nJoin us for an inspiring on-the-water experience highlighting the importance of preserving San Diego’s coastal resources.
URL:https://oceanconnectors.org/event/north-county-nature-paddle-eco-tour-4/
LOCATION:California Watersports at Agua Hedionda Lagoon\, 4215 Harrison St\,\, Carlsbad\, CA\, 92008\, United States
CATEGORIES:Agua Hedionda Kayaking
ATTACH;FMTTYPE=image/jpeg:https://oceanconnectors.org/wp-content/uploads/2025/06/AHL-Kayaking-05-31-25-3-scaled.jpg
ORGANIZER;CN="Eco Tours":MAILTO:eco-tours@oceanconnectors.org
END:VEVENT
BEGIN:VEVENT
DTSTART;TZID=America/Los_Angeles:20250730T100000
DTEND;TZID=America/Los_Angeles:20250730T123000
DTSTAMP:20260423T091506
CREATED:20250708T184522Z
LAST-MODIFIED:20250708T192243Z
UID:10000576-1753869600-1753878600@oceanconnectors.org
SUMMARY:North County Nature Paddle Eco Tour
DESCRIPTION:Be an Ocean Connector and join us on one of our Wildlife Kayaking adventures!\nDiscover the natural beauty of Agua Hedionda Lagoon on a guided kayaking tour through this unique coastal ecosystem in Carlsbad. Paddle through calm waters while learning about local conservation efforts\, wetland restoration\, and the rich biodiversity that makes this area so important. \nThis eco tour is suitable for all experience levels and offers a meaningful way to connect with nature while supporting environmental education and stewardship. \nWhat to Expect: \n\nWildlife Viewing: Watch for native birds and other wildlife as you explore the lagoon by kayak.\nEducational Insights: Learn about lagoon ecology\, restoration projects\, and sustainable aquaculture.\nBirding Support: Binoculars and bird identification guides are provided to enhance your experience.\nGuided Exploration: Enjoy expert-led interpretation while paddling through this peaceful marine habitat.\n\nJoin us for an inspiring on-the-water experience highlighting the importance of preserving San Diego’s coastal resources.
URL:https://oceanconnectors.org/event/north-county-nature-paddle-eco-tour-3/
LOCATION:California Watersports at Agua Hedionda Lagoon\, 4215 Harrison St\,\, Carlsbad\, CA\, 92008\, United States
CATEGORIES:Agua Hedionda Kayaking
ATTACH;FMTTYPE=image/jpeg:https://oceanconnectors.org/wp-content/uploads/2025/06/AHL-Scouting-5-6-25-13-scaled.jpg
ORGANIZER;CN="Eco Tours":MAILTO:eco-tours@oceanconnectors.org
END:VEVENT
BEGIN:VEVENT
DTSTART;TZID=America/Los_Angeles:20250723T100000
DTEND;TZID=America/Los_Angeles:20250723T123000
DTSTAMP:20260423T091506
CREATED:20250708T182612Z
LAST-MODIFIED:20250708T182612Z
UID:10000575-1753264800-1753273800@oceanconnectors.org
SUMMARY:North County Nature Paddle Eco Tour
DESCRIPTION:Be an Ocean Connector and join us on one of our Wildlife Kayaking adventures!\nDiscover the natural beauty of Agua Hedionda Lagoon on a guided kayaking tour through this unique coastal ecosystem in Carlsbad. Paddle through calm waters while learning about local conservation efforts\, wetland restoration\, and the rich biodiversity that makes this area so important. \nThis eco tour is suitable for all experience levels and offers a meaningful way to connect with nature while supporting environmental education and stewardship. \nWhat to Expect: \n\nWildlife Viewing: Watch for native birds and other wildlife as you explore the lagoon by kayak.\nEducational Insights: Learn about lagoon ecology\, restoration projects\, and sustainable aquaculture.\nBirding Support: Binoculars and bird identification guides are provided to enhance your experience.\nGuided Exploration: Enjoy expert-led interpretation while paddling through this peaceful marine habitat.\n\nJoin us for an inspiring on-the-water experience highlighting the importance of preserving San Diego’s coastal resources.
URL:https://oceanconnectors.org/event/north-county-nature-paddle-eco-tour-2/
LOCATION:California Watersports at Agua Hedionda Lagoon\, 4215 Harrison St\,\, Carlsbad\, CA\, 92008\, United States
CATEGORIES:Agua Hedionda Kayaking
ATTACH;FMTTYPE=image/jpeg:https://oceanconnectors.org/wp-content/uploads/2025/06/AHL-Scouting-5-6-25-5-scaled.jpg
ORGANIZER;CN="Eco Tours":MAILTO:eco-tours@oceanconnectors.org
END:VEVENT
BEGIN:VEVENT
DTSTART;TZID=America/Los_Angeles:20250531T090000
DTEND;TZID=America/Los_Angeles:20250531T120000
DTSTAMP:20260423T091506
CREATED:20250409T224740Z
LAST-MODIFIED:20250513T001504Z
UID:10000473-1748682000-1748692800@oceanconnectors.org
SUMMARY:Agua Hedionda Kayaking Eco Tour
DESCRIPTION:Be an Ocean Connector and join us on one of our Wildlife Kayaking adventures!\nDiscover the natural beauty of Agua Hedionda Lagoon on a guided kayaking tour through this unique coastal ecosystem in Carlsbad. Paddle through calm waters while learning about local conservation efforts\, wetland restoration\, and the rich biodiversity that makes this area so important. \nThis eco tour is suitable for all experience levels and offers a meaningful way to connect with nature while supporting environmental education and stewardship. \nWhat to Expect: \n\nWildlife Viewing: Watch for native birds and other wildlife as you explore the lagoon by kayak.\nEducational Insights: Learn about lagoon ecology\, restoration projects\, and sustainable aquaculture.\nBirding Support: Binoculars and bird identification guides are provided to enhance your experience.\nGuided Exploration: Enjoy expert-led interpretation while paddling through this peaceful marine habitat.\n\nJoin us for an inspiring on-the-water experience highlighting the importance of preserving San Diego’s coastal resources.
URL:https://oceanconnectors.org/event/agua-hedionda-kayaking-eco-tour/
LOCATION:California Watersports at Agua Hedionda Lagoon\, 4215 Harrison St\,\, Carlsbad\, CA\, 92008\, United States
CATEGORIES:Agua Hedionda Kayaking
ATTACH;FMTTYPE=image/jpeg:https://oceanconnectors.org/wp-content/uploads/2025/04/great-blue-heron-wading-in-reeds-e1744236536733.jpg
ORGANIZER;CN="Eco Tours":MAILTO:eco-tours@oceanconnectors.org
END:VEVENT
END:VCALENDAR